BEGIN:VCALENDAR
VERSION:2.0
PRODID:-//Gemeng Garnich - ECPv6.15.20//NONSGML v1.0//EN
CALSCALE:GREGORIAN
METHOD:PUBLISH
X-ORIGINAL-URL:https://garnich.lu
X-WR-CALDESC:Évènements pour Gemeng Garnich
REFRESH-INTERVAL;VALUE=DURATION:PT1H
X-Robots-Tag:noindex
X-PUBLISHED-TTL:PT1H
BEGIN:VTIMEZONE
TZID:Europe/Luxembourg
BEGIN:DAYLIGHT
TZOFFSETFROM:+0100
TZOFFSETTO:+0200
TZNAME:CEST
DTSTART:20170326T010000
END:DAYLIGHT
BEGIN:STANDARD
TZOFFSETFROM:+0200
TZOFFSETTO:+0100
TZNAME:CET
DTSTART:20171029T010000
END:STANDARD
BEGIN:DAYLIGHT
TZOFFSETFROM:+0100
TZOFFSETTO:+0200
TZNAME:CEST
DTSTART:20180325T010000
END:DAYLIGHT
BEGIN:STANDARD
TZOFFSETFROM:+0200
TZOFFSETTO:+0100
TZNAME:CET
DTSTART:20181028T010000
END:STANDARD
BEGIN:DAYLIGHT
TZOFFSETFROM:+0100
TZOFFSETTO:+0200
TZNAME:CEST
DTSTART:20190331T010000
END:DAYLIGHT
BEGIN:STANDARD
TZOFFSETFROM:+0200
TZOFFSETTO:+0100
TZNAME:CET
DTSTART:20191027T010000
END:STANDARD
END:VTIMEZONE
BEGIN:VEVENT
DTSTART;VALUE=DATE:20181013
DTEND;VALUE=DATE:20181014
DTSTAMP:20260422T181123
CREATED:20181003T071715Z
LAST-MODIFIED:20181003T071715Z
UID:5760-1539388800-1539475199@garnich.lu
SUMMARY:Hämmelsmarsch
DESCRIPTION:D’Garnecher Musik spillt den Hämmelsmarsch zu Koler.
URL:https://garnich.lu/event/hammelsmarsch-2/
LOCATION:Kahler
ATTACH;FMTTYPE=image/jpeg:https://garnich.lu/wp-content/uploads/2018/10/Sheep-e1538550152880.jpg
END:VEVENT
BEGIN:VEVENT
DTSTART;TZID=Europe/Luxembourg:20181013T094500
DTEND;TZID=Europe/Luxembourg:20181013T173000
DTSTAMP:20260422T181123
CREATED:20181002T125855Z
LAST-MODIFIED:20181002T130044Z
UID:5706-1539423900-1539451800@garnich.lu
SUMMARY:Cours de taille pour arbres fruitiers
DESCRIPTION:FLYER
URL:https://garnich.lu/event/cours-de-taille-pour-arbres-fruitiers/
LOCATION:Dahlem\, am Keller\, 3\, rue de l'École\, Dahlem\, 8352\, Luxembourg
ATTACH;FMTTYPE=image/jpeg:https://garnich.lu/wp-content/uploads/2018/10/Apple-tree-e1538484884836.jpg
ORGANIZER;CN="SICONA":MAILTO:administration@sicona.lu
END:VEVENT
END:VCALENDAR