BEGIN:VCALENDAR
VERSION:2.0
PRODID:-//Gemeng Garnich - ECPv6.15.20//NONSGML v1.0//EN
CALSCALE:GREGORIAN
METHOD:PUBLISH
X-ORIGINAL-URL:https://garnich.lu
X-WR-CALDESC:Évènements pour Gemeng Garnich
REFRESH-INTERVAL;VALUE=DURATION:PT1H
X-Robots-Tag:noindex
X-PUBLISHED-TTL:PT1H
BEGIN:VTIMEZONE
TZID:Europe/Luxembourg
BEGIN:DAYLIGHT
TZOFFSETFROM:+0100
TZOFFSETTO:+0200
TZNAME:CEST
DTSTART:20180325T010000
END:DAYLIGHT
BEGIN:STANDARD
TZOFFSETFROM:+0200
TZOFFSETTO:+0100
TZNAME:CET
DTSTART:20181028T010000
END:STANDARD
BEGIN:DAYLIGHT
TZOFFSETFROM:+0100
TZOFFSETTO:+0200
TZNAME:CEST
DTSTART:20190331T010000
END:DAYLIGHT
BEGIN:STANDARD
TZOFFSETFROM:+0200
TZOFFSETTO:+0100
TZNAME:CET
DTSTART:20191027T010000
END:STANDARD
BEGIN:DAYLIGHT
TZOFFSETFROM:+0100
TZOFFSETTO:+0200
TZNAME:CEST
DTSTART:20200329T010000
END:DAYLIGHT
BEGIN:STANDARD
TZOFFSETFROM:+0200
TZOFFSETTO:+0100
TZNAME:CET
DTSTART:20201025T010000
END:STANDARD
END:VTIMEZONE
BEGIN:VEVENT
DTSTART;VALUE=DATE:20190316
DTEND;VALUE=DATE:20190317
DTSTAMP:20260422T045541
CREATED:20190110T112901Z
LAST-MODIFIED:20190227T101331Z
UID:6260-1552694400-1552780799@garnich.lu
SUMMARY:Grouss Botz zu Héiweng
DESCRIPTION:Treffpunkt ass um 9.30 Auer bei der Schoul zu Héiweng. \nNo der Botz gëtt et Ierzebulli. \nFir d’Umeldung a weider Info klickt hei.
URL:https://garnich.lu/event/grouss-botz-zu-heiweng/
LOCATION:Hivange\, Luxembourg
ATTACH;FMTTYPE=image/jpeg:https://garnich.lu/wp-content/uploads/2019/01/Grouss-Botz-e1547201074396.jpg
END:VEVENT
BEGIN:VEVENT
DTSTART;VALUE=DATE:20190316
DTEND;VALUE=DATE:20190317
DTSTAMP:20260422T045541
CREATED:20190110T113101Z
LAST-MODIFIED:20190110T113101Z
UID:6263-1552694400-1552780799@garnich.lu
SUMMARY:Grouss Botz zu Koler
DESCRIPTION:
URL:https://garnich.lu/event/grouss-botz-zu-koler/
LOCATION:Kahler
ATTACH;FMTTYPE=image/jpeg:https://garnich.lu/wp-content/uploads/2019/01/Grouss-Botz-e1547201074396.jpg
END:VEVENT
BEGIN:VEVENT
DTSTART;TZID=Europe/Luxembourg:20190316T140000
DTEND;TZID=Europe/Luxembourg:20190316T190000
DTSTAMP:20260422T045541
CREATED:20190110T112454Z
LAST-MODIFIED:20190225T111642Z
UID:6257-1552744800-1552762800@garnich.lu
SUMMARY:Digitale Spillnomëtteg
DESCRIPTION:Entrée ass gratis \nVu 6 – 99 Joer \nFir Iessen an Drénken ass gesuergt
URL:https://garnich.lu/event/digitale-spillnometteg/
LOCATION:Dahlem\, am Keller\, 3\, rue de l'École\, Dahlem\, 8352\, Luxembourg
ATTACH;FMTTYPE=image/jpeg:https://garnich.lu/wp-content/uploads/2018/12/Computer-games-e1547201154781.jpg
ORGANIZER;CN="Duelemer Leit asbl":MAILTO:duelemer.leit@garnich.lu
END:VEVENT
END:VCALENDAR