BEGIN:VCALENDAR
VERSION:2.0
PRODID:-//Gemeng Garnich - ECPv6.15.20//NONSGML v1.0//EN
CALSCALE:GREGORIAN
METHOD:PUBLISH
X-ORIGINAL-URL:https://garnich.lu
X-WR-CALDESC:Évènements pour Gemeng Garnich
REFRESH-INTERVAL;VALUE=DURATION:PT1H
X-Robots-Tag:noindex
X-PUBLISHED-TTL:PT1H
BEGIN:VTIMEZONE
TZID:Europe/Luxembourg
BEGIN:DAYLIGHT
TZOFFSETFROM:+0100
TZOFFSETTO:+0200
TZNAME:CEST
DTSTART:20180325T010000
END:DAYLIGHT
BEGIN:STANDARD
TZOFFSETFROM:+0200
TZOFFSETTO:+0100
TZNAME:CET
DTSTART:20181028T010000
END:STANDARD
BEGIN:DAYLIGHT
TZOFFSETFROM:+0100
TZOFFSETTO:+0200
TZNAME:CEST
DTSTART:20190331T010000
END:DAYLIGHT
BEGIN:STANDARD
TZOFFSETFROM:+0200
TZOFFSETTO:+0100
TZNAME:CET
DTSTART:20191027T010000
END:STANDARD
BEGIN:DAYLIGHT
TZOFFSETFROM:+0100
TZOFFSETTO:+0200
TZNAME:CEST
DTSTART:20200329T010000
END:DAYLIGHT
BEGIN:STANDARD
TZOFFSETFROM:+0200
TZOFFSETTO:+0100
TZNAME:CET
DTSTART:20201025T010000
END:STANDARD
END:VTIMEZONE
BEGIN:VEVENT
DTSTART;VALUE=DATE:20190319
DTEND;VALUE=DATE:20190320
DTSTAMP:20260422T045548
CREATED:20181227T103034Z
LAST-MODIFIED:20190213T130950Z
UID:6165-1552953600-1553039999@garnich.lu
SUMMARY:Kleedersammlung - Ramassage de vieux vêtements
DESCRIPTION:Comme chaque année l’association « Aide aux enfants handicapés du Grand-Duché de Luxembourg » a le plaisir d’annoncer son grand ramassage de vieux vêtements. Dans la commune de Garnich celui-ci se déroulera le mardi\, 19 mars 2019. \nINFO
URL:https://garnich.lu/event/kleedersammlung-ramassage-de-vieux-vetements/
ATTACH;FMTTYPE=image/jpeg:https://garnich.lu/wp-content/uploads/2018/12/Clothes-e1547201164572.jpg
END:VEVENT
BEGIN:VEVENT
DTSTART;TZID=Europe/Luxembourg:20190319T193000
DTEND;TZID=Europe/Luxembourg:20190319T210000
DTSTAMP:20260422T045548
CREATED:20190301T105450Z
LAST-MODIFIED:20190301T105450Z
UID:6608-1553023800-1553029200@garnich.lu
SUMMARY:Generalversammlung "Koler Bierger asbl"
DESCRIPTION:
URL:https://garnich.lu/event/generalversammlung-koler-bierger-asbl/
LOCATION:Duerfzenter Koler\, 38\, rue Principale\, Kahler\, 8376
ATTACH;FMTTYPE=image/jpeg:https://garnich.lu/wp-content/uploads/2018/05/commissions-consultatives-e1551436509555.jpg
END:VEVENT
END:VCALENDAR