BEGIN:VCALENDAR
VERSION:2.0
PRODID:-//Gemeng Garnich - ECPv6.15.20//NONSGML v1.0//EN
CALSCALE:GREGORIAN
METHOD:PUBLISH
X-WR-CALNAME:Gemeng Garnich
X-ORIGINAL-URL:https://garnich.lu
X-WR-CALDESC:Évènements pour Gemeng Garnich
REFRESH-INTERVAL;VALUE=DURATION:PT1H
X-Robots-Tag:noindex
X-PUBLISHED-TTL:PT1H
BEGIN:VTIMEZONE
TZID:Europe/Luxembourg
BEGIN:DAYLIGHT
TZOFFSETFROM:+0100
TZOFFSETTO:+0200
TZNAME:CEST
DTSTART:20180325T010000
END:DAYLIGHT
BEGIN:STANDARD
TZOFFSETFROM:+0200
TZOFFSETTO:+0100
TZNAME:CET
DTSTART:20181028T010000
END:STANDARD
BEGIN:DAYLIGHT
TZOFFSETFROM:+0100
TZOFFSETTO:+0200
TZNAME:CEST
DTSTART:20190331T010000
END:DAYLIGHT
BEGIN:STANDARD
TZOFFSETFROM:+0200
TZOFFSETTO:+0100
TZNAME:CET
DTSTART:20191027T010000
END:STANDARD
BEGIN:DAYLIGHT
TZOFFSETFROM:+0100
TZOFFSETTO:+0200
TZNAME:CEST
DTSTART:20200329T010000
END:DAYLIGHT
BEGIN:STANDARD
TZOFFSETFROM:+0200
TZOFFSETTO:+0100
TZNAME:CET
DTSTART:20201025T010000
END:STANDARD
END:VTIMEZONE
BEGIN:VEVENT
DTSTART;TZID=Europe/Luxembourg:20190616T160000
DTEND;TZID=Europe/Luxembourg:20190616T180000
DTSTAMP:20260421T231806
CREATED:20190527T102056Z
LAST-MODIFIED:20190527T102153Z
UID:7045-1560700800-1560708000@garnich.lu
SUMMARY:Concert Sara Bennett
DESCRIPTION:Concert avec Sara Bennett \nAvec 5 octaves du Classic au Pop \nAFFICHE
URL:https://garnich.lu/event/concert-sara-bennett/
LOCATION:Kahler\, église
ATTACH;FMTTYPE=image/jpeg:https://garnich.lu/wp-content/uploads/2019/05/Concert-Sara-Bennett-16.6.2019-e1558952249582.jpg
END:VEVENT
END:VCALENDAR