BEGIN:VCALENDAR
VERSION:2.0
PRODID:-//Gemeng Garnich - ECPv6.15.20//NONSGML v1.0//EN
CALSCALE:GREGORIAN
METHOD:PUBLISH
X-WR-CALNAME:Gemeng Garnich
X-ORIGINAL-URL:https://garnich.lu
X-WR-CALDESC:Évènements pour Gemeng Garnich
REFRESH-INTERVAL;VALUE=DURATION:PT1H
X-Robots-Tag:noindex
X-PUBLISHED-TTL:PT1H
BEGIN:VTIMEZONE
TZID:Europe/Luxembourg
BEGIN:DAYLIGHT
TZOFFSETFROM:+0100
TZOFFSETTO:+0200
TZNAME:CEST
DTSTART:20180325T010000
END:DAYLIGHT
BEGIN:STANDARD
TZOFFSETFROM:+0200
TZOFFSETTO:+0100
TZNAME:CET
DTSTART:20181028T010000
END:STANDARD
BEGIN:DAYLIGHT
TZOFFSETFROM:+0100
TZOFFSETTO:+0200
TZNAME:CEST
DTSTART:20190331T010000
END:DAYLIGHT
BEGIN:STANDARD
TZOFFSETFROM:+0200
TZOFFSETTO:+0100
TZNAME:CET
DTSTART:20191027T010000
END:STANDARD
BEGIN:DAYLIGHT
TZOFFSETFROM:+0100
TZOFFSETTO:+0200
TZNAME:CEST
DTSTART:20200329T010000
END:DAYLIGHT
BEGIN:STANDARD
TZOFFSETFROM:+0200
TZOFFSETTO:+0100
TZNAME:CET
DTSTART:20201025T010000
END:STANDARD
END:VTIMEZONE
BEGIN:VEVENT
DTSTART;VALUE=DATE:20190621
DTEND;VALUE=DATE:20190622
DTSTAMP:20260421T231939
CREATED:20190111T093921Z
LAST-MODIFIED:20190412T084021Z
UID:6276-1561075200-1561161599@garnich.lu
SUMMARY:Fest fir Nationalfeierdag
DESCRIPTION:Musik mam Orchester « Blue Stars » \nPROGRAMM
URL:https://garnich.lu/event/fest-fir-nationalfeierdag/
LOCATION:Veräinshaus\, Garnich\, 6 Rue des Sacrifies\, Garnich\, L-8356\, Luxembourg
ATTACH;FMTTYPE=image/jpeg:https://garnich.lu/wp-content/uploads/2019/04/Fête-nationale-21.6.2019-Flyer-1.jpg
ORGANIZER;CN="Commission culturelle de Garnich":MAILTO:info@garnich.lu
END:VEVENT
BEGIN:VEVENT
DTSTART;TZID=Europe/Luxembourg:20190621T190000
DTEND;TZID=Europe/Luxembourg:20190621T233000
DTSTAMP:20260421T231939
CREATED:20190329T122239Z
LAST-MODIFIED:20190329T122239Z
UID:6898-1561143600-1561159800@garnich.lu
SUMMARY:Café Koler
DESCRIPTION:Fir iessen an drénken ass gesuergt
URL:https://garnich.lu/event/cafe-koler-4/
LOCATION:Duerfzenter Koler\, 38\, rue Principale\, Kahler\, 8376
ATTACH;FMTTYPE=image/jpeg:https://garnich.lu/wp-content/uploads/2019/03/Beer-e1553861926736.jpg
END:VEVENT
END:VCALENDAR