BEGIN:VCALENDAR
VERSION:2.0
PRODID:-//Gemeng Garnich - ECPv6.15.20//NONSGML v1.0//EN
CALSCALE:GREGORIAN
METHOD:PUBLISH
X-ORIGINAL-URL:https://garnich.lu
X-WR-CALDESC:Évènements pour Gemeng Garnich
REFRESH-INTERVAL;VALUE=DURATION:PT1H
X-Robots-Tag:noindex
X-PUBLISHED-TTL:PT1H
BEGIN:VTIMEZONE
TZID:Europe/Luxembourg
BEGIN:DAYLIGHT
TZOFFSETFROM:+0100
TZOFFSETTO:+0200
TZNAME:CEST
DTSTART:20180325T010000
END:DAYLIGHT
BEGIN:STANDARD
TZOFFSETFROM:+0200
TZOFFSETTO:+0100
TZNAME:CET
DTSTART:20181028T010000
END:STANDARD
BEGIN:DAYLIGHT
TZOFFSETFROM:+0100
TZOFFSETTO:+0200
TZNAME:CEST
DTSTART:20190331T010000
END:DAYLIGHT
BEGIN:STANDARD
TZOFFSETFROM:+0200
TZOFFSETTO:+0100
TZNAME:CET
DTSTART:20191027T010000
END:STANDARD
BEGIN:DAYLIGHT
TZOFFSETFROM:+0100
TZOFFSETTO:+0200
TZNAME:CEST
DTSTART:20200329T010000
END:DAYLIGHT
BEGIN:STANDARD
TZOFFSETFROM:+0200
TZOFFSETTO:+0100
TZNAME:CET
DTSTART:20201025T010000
END:STANDARD
END:VTIMEZONE
BEGIN:VEVENT
DTSTART;TZID=Europe/Luxembourg:20190629T190000
DTEND;TZID=Europe/Luxembourg:20190629T220000
DTSTAMP:20260421T231320
CREATED:20181228T135021Z
LAST-MODIFIED:20181228T135021Z
UID:6184-1561834800-1561845600@garnich.lu
SUMMARY:Duelemer Treff / Oppene Keller (+Grillen)
DESCRIPTION:Gemittlech zesumme poteren\, spillen\, genéissen an engem gemittleche Kader. \nDir sidd wëllkomm.
URL:https://garnich.lu/event/duelemer-treff-oppene-keller-grillen/
LOCATION:Dahlem\, am Keller\, 3\, rue de l'École\, Dahlem\, 8352\, Luxembourg
ATTACH;FMTTYPE=image/jpeg:https://garnich.lu/wp-content/uploads/2018/10/Drinks-e1538550570322.jpg
ORGANIZER;CN="Duelemer Leit asbl":MAILTO:duelemer.leit@garnich.lu
END:VEVENT
END:VCALENDAR