BEGIN:VCALENDAR
VERSION:2.0
PRODID:-//Gemeng Garnich - ECPv6.15.20//NONSGML v1.0//EN
CALSCALE:GREGORIAN
METHOD:PUBLISH
X-ORIGINAL-URL:https://garnich.lu
X-WR-CALDESC:Évènements pour Gemeng Garnich
REFRESH-INTERVAL;VALUE=DURATION:PT1H
X-Robots-Tag:noindex
X-PUBLISHED-TTL:PT1H
BEGIN:VTIMEZONE
TZID:Europe/Luxembourg
BEGIN:DAYLIGHT
TZOFFSETFROM:+0100
TZOFFSETTO:+0200
TZNAME:CEST
DTSTART:20180325T010000
END:DAYLIGHT
BEGIN:STANDARD
TZOFFSETFROM:+0200
TZOFFSETTO:+0100
TZNAME:CET
DTSTART:20181028T010000
END:STANDARD
BEGIN:DAYLIGHT
TZOFFSETFROM:+0100
TZOFFSETTO:+0200
TZNAME:CEST
DTSTART:20190331T010000
END:DAYLIGHT
BEGIN:STANDARD
TZOFFSETFROM:+0200
TZOFFSETTO:+0100
TZNAME:CET
DTSTART:20191027T010000
END:STANDARD
BEGIN:DAYLIGHT
TZOFFSETFROM:+0100
TZOFFSETTO:+0200
TZNAME:CEST
DTSTART:20200329T010000
END:DAYLIGHT
BEGIN:STANDARD
TZOFFSETFROM:+0200
TZOFFSETTO:+0100
TZNAME:CET
DTSTART:20201025T010000
END:STANDARD
END:VTIMEZONE
BEGIN:VEVENT
DTSTART;TZID=Europe/Luxembourg:20191201T113000
DTEND;TZID=Europe/Luxembourg:20191201T180000
DTSTAMP:20260421T130212
CREATED:20190111T095758Z
LAST-MODIFIED:20191108T110700Z
UID:6295-1575199800-1575223200@garnich.lu
SUMMARY:Adventsfeier mat Hobbyausstellung
DESCRIPTION:FLYER 1 \nFLYER 2
URL:https://garnich.lu/event/adventsfeier-mat-hobbyausstellung/
LOCATION:Veräinshaus\, Garnich\, 6 Rue des Sacrifies\, Garnich\, L-8356\, Luxembourg
ATTACH;FMTTYPE=image/jpeg:https://garnich.lu/wp-content/uploads/2018/10/Adventskranz-e1538550799387.jpg
END:VEVENT
END:VCALENDAR