BEGIN:VCALENDAR
VERSION:2.0
PRODID:-//Gemeng Garnich - ECPv6.15.20//NONSGML v1.0//EN
CALSCALE:GREGORIAN
METHOD:PUBLISH
X-ORIGINAL-URL:https://garnich.lu
X-WR-CALDESC:Évènements pour Gemeng Garnich
REFRESH-INTERVAL;VALUE=DURATION:PT1H
X-Robots-Tag:noindex
X-PUBLISHED-TTL:PT1H
BEGIN:VTIMEZONE
TZID:Europe/Luxembourg
BEGIN:DAYLIGHT
TZOFFSETFROM:+0100
TZOFFSETTO:+0200
TZNAME:CEST
DTSTART:20180325T010000
END:DAYLIGHT
BEGIN:STANDARD
TZOFFSETFROM:+0200
TZOFFSETTO:+0100
TZNAME:CET
DTSTART:20181028T010000
END:STANDARD
BEGIN:DAYLIGHT
TZOFFSETFROM:+0100
TZOFFSETTO:+0200
TZNAME:CEST
DTSTART:20190331T010000
END:DAYLIGHT
BEGIN:STANDARD
TZOFFSETFROM:+0200
TZOFFSETTO:+0100
TZNAME:CET
DTSTART:20191027T010000
END:STANDARD
BEGIN:DAYLIGHT
TZOFFSETFROM:+0100
TZOFFSETTO:+0200
TZNAME:CEST
DTSTART:20200329T010000
END:DAYLIGHT
BEGIN:STANDARD
TZOFFSETFROM:+0200
TZOFFSETTO:+0100
TZNAME:CET
DTSTART:20201025T010000
END:STANDARD
END:VTIMEZONE
BEGIN:VEVENT
DTSTART;TZID=Europe/Luxembourg:20191208T133000
DTEND;TZID=Europe/Luxembourg:20191208T190000
DTSTAMP:20260421T130119
CREATED:20190111T100130Z
LAST-MODIFIED:20191108T090829Z
UID:6301-1575811800-1575831600@garnich.lu
SUMMARY:Monte Carlo Tournoi
DESCRIPTION:FLYER
URL:https://garnich.lu/event/monte-carlo-tournoi-2/
LOCATION:Dahlem\, am Keller\, 3\, rue de l'École\, Dahlem\, 8352\, Luxembourg
ATTACH;FMTTYPE=image/jpeg:https://garnich.lu/wp-content/uploads/2018/10/Cards-e1538551502873.jpg
ORGANIZER;CN="Duelemer Leit asbl":MAILTO:duelemer.leit@garnich.lu
END:VEVENT
BEGIN:VEVENT
DTSTART;TZID=Europe/Luxembourg:20191208T160000
DTEND;TZID=Europe/Luxembourg:20191208T180000
DTSTAMP:20260421T130119
CREATED:20190924T121422Z
LAST-MODIFIED:20190924T121558Z
UID:7633-1575820800-1575828000@garnich.lu
SUMMARY:Concert de Noël "SARA BENNETT"
DESCRIPTION:Chrëschtconcert mam Sara Bennett \nINFO
URL:https://garnich.lu/event/concert-de-noel-sara-bennett/
LOCATION:Kahler\, église
ATTACH;FMTTYPE=image/jpeg:https://garnich.lu/wp-content/uploads/2019/09/Sara-Bennett.jpg
END:VEVENT
END:VCALENDAR