BEGIN:VCALENDAR
VERSION:2.0
PRODID:-//Gemeng Garnich - ECPv6.15.20//NONSGML v1.0//EN
CALSCALE:GREGORIAN
METHOD:PUBLISH
X-WR-CALNAME:Gemeng Garnich
X-ORIGINAL-URL:https://garnich.lu
X-WR-CALDESC:Évènements pour Gemeng Garnich
REFRESH-INTERVAL;VALUE=DURATION:PT1H
X-Robots-Tag:noindex
X-PUBLISHED-TTL:PT1H
BEGIN:VTIMEZONE
TZID:Europe/Luxembourg
BEGIN:DAYLIGHT
TZOFFSETFROM:+0100
TZOFFSETTO:+0200
TZNAME:CEST
DTSTART:20190331T010000
END:DAYLIGHT
BEGIN:STANDARD
TZOFFSETFROM:+0200
TZOFFSETTO:+0100
TZNAME:CET
DTSTART:20191027T010000
END:STANDARD
BEGIN:DAYLIGHT
TZOFFSETFROM:+0100
TZOFFSETTO:+0200
TZNAME:CEST
DTSTART:20200329T010000
END:DAYLIGHT
BEGIN:STANDARD
TZOFFSETFROM:+0200
TZOFFSETTO:+0100
TZNAME:CET
DTSTART:20201025T010000
END:STANDARD
BEGIN:DAYLIGHT
TZOFFSETFROM:+0100
TZOFFSETTO:+0200
TZNAME:CEST
DTSTART:20210328T010000
END:DAYLIGHT
BEGIN:STANDARD
TZOFFSETFROM:+0200
TZOFFSETTO:+0100
TZNAME:CET
DTSTART:20211031T010000
END:STANDARD
END:VTIMEZONE
BEGIN:VEVENT
DTSTART;TZID=Europe/Luxembourg:20200215T150000
DTEND;TZID=Europe/Luxembourg:20200215T170000
DTSTAMP:20260421T092001
CREATED:20200106T132031Z
LAST-MODIFIED:20200106T132031Z
UID:8199-1581778800-1581786000@garnich.lu
SUMMARY:Generalversammlung Opel Hecktriebler
DESCRIPTION:
URL:https://garnich.lu/event/generalversammlung-opel-hecktriebler-2/
LOCATION:Veräinshaus\, Garnich\, 6 Rue des Sacrifies\, Garnich\, L-8356\, Luxembourg
ATTACH;FMTTYPE=image/jpeg:https://garnich.lu/wp-content/uploads/2018/12/Meeting-e1547201147191.jpg
ORGANIZER;CN="Opel Hecktriebler L%C3%ABtzebuerg asbl":MAILTO:arendguy@hotmail.de
END:VEVENT
BEGIN:VEVENT
DTSTART;TZID=Europe/Luxembourg:20200215T190000
DTEND;TZID=Europe/Luxembourg:20200215T233000
DTSTAMP:20260421T092001
CREATED:20200204T112058Z
LAST-MODIFIED:20200204T112058Z
UID:8396-1581793200-1581809400@garnich.lu
SUMMARY:Oppene Keller
DESCRIPTION:FLYER
URL:https://garnich.lu/event/oppene-keller/
LOCATION:Dahlem\, am Keller\, 3\, rue de l'École\, Dahlem\, 8352\, Luxembourg
ATTACH;FMTTYPE=image/jpeg:https://garnich.lu/wp-content/uploads/2019/03/Beer-e1553861926736.jpg
ORGANIZER;CN="Duelemer Leit asbl":MAILTO:duelemer.leit@garnich.lu
END:VEVENT
END:VCALENDAR