BEGIN:VCALENDAR
VERSION:2.0
PRODID:-//Gemeng Garnich - ECPv6.15.20//NONSGML v1.0//EN
CALSCALE:GREGORIAN
METHOD:PUBLISH
X-WR-CALNAME:Gemeng Garnich
X-ORIGINAL-URL:https://garnich.lu
X-WR-CALDESC:Évènements pour Gemeng Garnich
REFRESH-INTERVAL;VALUE=DURATION:PT1H
X-Robots-Tag:noindex
X-PUBLISHED-TTL:PT1H
BEGIN:VTIMEZONE
TZID:Europe/Luxembourg
BEGIN:DAYLIGHT
TZOFFSETFROM:+0100
TZOFFSETTO:+0200
TZNAME:CEST
DTSTART:20190331T010000
END:DAYLIGHT
BEGIN:STANDARD
TZOFFSETFROM:+0200
TZOFFSETTO:+0100
TZNAME:CET
DTSTART:20191027T010000
END:STANDARD
BEGIN:DAYLIGHT
TZOFFSETFROM:+0100
TZOFFSETTO:+0200
TZNAME:CEST
DTSTART:20200329T010000
END:DAYLIGHT
BEGIN:STANDARD
TZOFFSETFROM:+0200
TZOFFSETTO:+0100
TZNAME:CET
DTSTART:20201025T010000
END:STANDARD
BEGIN:DAYLIGHT
TZOFFSETFROM:+0100
TZOFFSETTO:+0200
TZNAME:CEST
DTSTART:20210328T010000
END:DAYLIGHT
BEGIN:STANDARD
TZOFFSETFROM:+0200
TZOFFSETTO:+0100
TZNAME:CET
DTSTART:20211031T010000
END:STANDARD
END:VTIMEZONE
BEGIN:VEVENT
DTSTART;TZID=Europe/Luxembourg:20201017T191500
DTEND;TZID=Europe/Luxembourg:20201017T203000
DTSTAMP:20260420T185525
CREATED:20200918T090642Z
LAST-MODIFIED:20200918T090710Z
UID:8898-1602962100-1602966600@garnich.lu
SUMMARY:Journée de Commémoration Nationale
DESCRIPTION:INFO
URL:https://garnich.lu/event/journee-de-commemoration-nationale-3/
LOCATION:Église garnich\, Garnich
ATTACH;FMTTYPE=image/jpeg:https://garnich.lu/wp-content/uploads/2018/10/2016_10_09-Journée-commémorative-12-e1538475964408.jpg
ORGANIZER;CN="Administration communale Garnich":MAILTO:garnich@pt.lu
END:VEVENT
END:VCALENDAR