BEGIN:VCALENDAR
VERSION:2.0
PRODID:-//Gemeng Garnich - ECPv6.15.20//NONSGML v1.0//EN
CALSCALE:GREGORIAN
METHOD:PUBLISH
X-ORIGINAL-URL:https://garnich.lu
X-WR-CALDESC:Évènements pour Gemeng Garnich
REFRESH-INTERVAL;VALUE=DURATION:PT1H
X-Robots-Tag:noindex
X-PUBLISHED-TTL:PT1H
BEGIN:VTIMEZONE
TZID:Europe/Luxembourg
BEGIN:DAYLIGHT
TZOFFSETFROM:+0100
TZOFFSETTO:+0200
TZNAME:CEST
DTSTART:20170326T010000
END:DAYLIGHT
BEGIN:STANDARD
TZOFFSETFROM:+0200
TZOFFSETTO:+0100
TZNAME:CET
DTSTART:20171029T010000
END:STANDARD
BEGIN:DAYLIGHT
TZOFFSETFROM:+0100
TZOFFSETTO:+0200
TZNAME:CEST
DTSTART:20180325T010000
END:DAYLIGHT
BEGIN:STANDARD
TZOFFSETFROM:+0200
TZOFFSETTO:+0100
TZNAME:CET
DTSTART:20181028T010000
END:STANDARD
BEGIN:DAYLIGHT
TZOFFSETFROM:+0100
TZOFFSETTO:+0200
TZNAME:CEST
DTSTART:20190331T010000
END:DAYLIGHT
BEGIN:STANDARD
TZOFFSETFROM:+0200
TZOFFSETTO:+0100
TZNAME:CET
DTSTART:20191027T010000
END:STANDARD
END:VTIMEZONE
BEGIN:VEVENT
DTSTART;TZID=Europe/Luxembourg:20180707T100000
DTEND;TZID=Europe/Luxembourg:20180707T150000
DTSTAMP:20260422T164853
CREATED:20180525T123232Z
LAST-MODIFIED:20180529T094540Z
UID:3832-1530957600-1530975600@garnich.lu
SUMMARY:Garnich Beweegt Sech
DESCRIPTION:Garnich Beweegt Sech\n7. Juli 2018\nSport a Spaass fir d’ganz Famill! Ronderëm de Schoulkomplex Elsy Jacobs\n46 rue de l’école\, Garnich | 10:00 – 15:00 Auer \nAffiche de l’événement >>
URL:https://garnich.lu/event/garnich-beweegt-sech/
LOCATION:Schoulkomplex Elsy Jacobs\, 46 rue de l’école\, Garnich\, 8353\, Luxembourg
ATTACH;FMTTYPE=image/jpeg:https://garnich.lu/wp-content/uploads/2018/05/HP-Diaporama-e1528216619360.jpg
ORGANIZER;CN="Commission des Sports de la Commune de Garnich":MAILTO:sport@garnich.lu
END:VEVENT
BEGIN:VEVENT
DTSTART;VALUE=DATE:20180713
DTEND;VALUE=DATE:20180714
DTSTAMP:20260422T164853
CREATED:20180702T165715Z
LAST-MODIFIED:20180702T165924Z
UID:4588-1531440000-1531526399@garnich.lu
SUMMARY:Béierfest
DESCRIPTION:Béierfest\nZu Koler bei der Baach\n13. Juli 2018\nmat DJ Nilles ! \nVirverkaaf:5€\nOweskees:7€ \n			\n				\n					\n						\n							\n							En cours de chargement…\n						\n					\n					\n						\n							\n							Cela prend trop de temps ?\n						\n						\n							\n								 Recharger le document							\n							|\n							\n								 Ouvrir dans un nouvel onglet							\n					\n				\n			\n		Télécharger [0.00 B]
URL:https://garnich.lu/event/beierfest/
ATTACH;FMTTYPE=image/jpeg:https://garnich.lu/wp-content/uploads/2018/07/Béier-Duerffest-Koler-Affiche-2018-1-pdf.jpg
END:VEVENT
BEGIN:VEVENT
DTSTART;TZID=Europe/Luxembourg:20180715T100000
DTEND;TZID=Europe/Luxembourg:20180715T230000
DTSTAMP:20260422T164853
CREATED:20180702T170352Z
LAST-MODIFIED:20180702T170352Z
UID:4589-1531648800-1531695600@garnich.lu
SUMMARY:Vernissage vum Projet "Make Koler Kooler"
DESCRIPTION:« Make Koler Kooler » est un projet initié par le jeune artiste Alain WELTER\, qui avait l’idée de rendre son village natal de Kahler plus attractif en lui donnant une visibilité particulière moyennant le « street-art ».\nDepuis le début du projet\, Alain WELTER a en effet changé l’aspect du village en y enrichissant nombre de façades par des oeuvres d’art urbain de grande taille aux couleurs vives et gaies qui se rapportent essentiellement au village et à ses habitants.\n« Koler » est ainsi devenu un véritable musée d’art moderne en plein air. Le vernissage officiel de ce projet exceptionnel et unique au Grand-Duché\, voire dans la grande région\, aura lieu dans un cadre de fête populaire le dimanche\, 15 juillet 2018 à 10:00 heures au centre du village de Kahler. Les festivités avec un programme d’animation exceptionnel auront lieu jusque 23:00 heures. Le détail du programme est disponible sur le site Internet www.makekolerkooler.com ainsi que sur la page Facebook: Make Koler Kooler. \nMake-Koler-Koler-Flyer-recto-1
URL:https://garnich.lu/event/vernissage-vum-projet-make-koler-kooler/
LOCATION:Kahler
ATTACH;FMTTYPE=image/jpeg:https://garnich.lu/wp-content/uploads/2018/07/Make-Koler-Kooler-Photos-1-1024x577.jpeg
END:VEVENT
BEGIN:VEVENT
DTSTART;TZID=Europe/Luxembourg:20180724T153000
DTEND;TZID=Europe/Luxembourg:20180724T173000
DTSTAMP:20260422T164853
CREATED:20180718T093433Z
LAST-MODIFIED:20180725T095307Z
UID:4960-1532446200-1532453400@garnich.lu
SUMMARY:Handaarbecht
DESCRIPTION:
URL:https://garnich.lu/event/handaarbecht/
LOCATION:Garnich\, Garnich\, Luxembourg
ATTACH;FMTTYPE=image/jpeg:https://garnich.lu/wp-content/uploads/2018/07/art-arts-and-crafts-ball-845263-e1693904161327.jpg
END:VEVENT
END:VCALENDAR