BEGIN:VCALENDAR
VERSION:2.0
PRODID:-//Gemeng Garnich - ECPv6.15.20//NONSGML v1.0//EN
CALSCALE:GREGORIAN
METHOD:PUBLISH
X-WR-CALNAME:Gemeng Garnich
X-ORIGINAL-URL:https://garnich.lu
X-WR-CALDESC:Évènements pour Gemeng Garnich
REFRESH-INTERVAL;VALUE=DURATION:PT1H
X-Robots-Tag:noindex
X-PUBLISHED-TTL:PT1H
BEGIN:VTIMEZONE
TZID:Europe/Luxembourg
BEGIN:DAYLIGHT
TZOFFSETFROM:+0100
TZOFFSETTO:+0200
TZNAME:CEST
DTSTART:20170326T010000
END:DAYLIGHT
BEGIN:STANDARD
TZOFFSETFROM:+0200
TZOFFSETTO:+0100
TZNAME:CET
DTSTART:20171029T010000
END:STANDARD
BEGIN:DAYLIGHT
TZOFFSETFROM:+0100
TZOFFSETTO:+0200
TZNAME:CEST
DTSTART:20180325T010000
END:DAYLIGHT
BEGIN:STANDARD
TZOFFSETFROM:+0200
TZOFFSETTO:+0100
TZNAME:CET
DTSTART:20181028T010000
END:STANDARD
BEGIN:DAYLIGHT
TZOFFSETFROM:+0100
TZOFFSETTO:+0200
TZNAME:CEST
DTSTART:20190331T010000
END:DAYLIGHT
BEGIN:STANDARD
TZOFFSETFROM:+0200
TZOFFSETTO:+0100
TZNAME:CET
DTSTART:20191027T010000
END:STANDARD
END:VTIMEZONE
BEGIN:VEVENT
DTSTART;TZID=Europe/Luxembourg:20181007T093000
DTEND;TZID=Europe/Luxembourg:20181007T110000
DTSTAMP:20260422T115824
CREATED:20181002T102614Z
LAST-MODIFIED:20181002T102659Z
UID:5693-1538904600-1538910000@garnich.lu
SUMMARY:Journée de Commémoration Nationale
DESCRIPTION:Messe à 9h30 à Dahlem \nCortège & dépôt de fleurs à 10h30 à Dahlem \nFLYER
URL:https://garnich.lu/event/journee-de-commemoration-nationale/
LOCATION:Dahlem\, église\, Rue de l'Église\, Dahlem\, 8352
ATTACH;FMTTYPE=image/jpeg:https://garnich.lu/wp-content/uploads/2018/10/2016_10_09-Journée-commémorative-12-e1538475964408.jpg
END:VEVENT
BEGIN:VEVENT
DTSTART;TZID=Europe/Luxembourg:20181007T110000
DTEND;TZID=Europe/Luxembourg:20181007T140000
DTSTAMP:20260422T115824
CREATED:20181002T125242Z
LAST-MODIFIED:20181002T125242Z
UID:5700-1538910000-1538920800@garnich.lu
SUMMARY:Jazz am Keller
DESCRIPTION:FLYER
URL:https://garnich.lu/event/jazz-am-keller/
LOCATION:Dahlem\, am Keller\, 3\, rue de l'École\, Dahlem\, 8352\, Luxembourg
ATTACH;FMTTYPE=image/jpeg:https://garnich.lu/wp-content/uploads/2018/10/Music-e1538484750667.jpg
ORGANIZER;CN="Duelemer Leit asbl":MAILTO:duelemer.leit@garnich.lu
END:VEVENT
BEGIN:VEVENT
DTSTART;TZID=Europe/Luxembourg:20181007T110000
DTEND;TZID=Europe/Luxembourg:20181007T190000
DTSTAMP:20260422T115824
CREATED:20180924T095432Z
LAST-MODIFIED:20181002T130613Z
UID:5672-1538910000-1538938800@garnich.lu
SUMMARY:Duelemer Kiermes 2018
DESCRIPTION:11:00 Apero-Concert avec le groupe « Patrice Lerech Swing Band » \nFLYER
URL:https://garnich.lu/event/duelemer-kiermes-2018/
LOCATION:Dahlem\, am Keller\, 3\, rue de l'École\, Dahlem\, 8352\, Luxembourg
ATTACH;FMTTYPE=image/jpeg:https://garnich.lu/wp-content/uploads/2018/10/Balloons-e1538485473495.jpg
ORGANIZER;CN="Duelemer Leit asbl":MAILTO:duelemer.leit@garnich.lu
END:VEVENT
BEGIN:VEVENT
DTSTART;TZID=Europe/Luxembourg:20181009T153000
DTEND;TZID=Europe/Luxembourg:20181009T173000
DTSTAMP:20260422T115824
CREATED:20181002T134235Z
LAST-MODIFIED:20181002T134235Z
UID:5735-1539099000-1539106200@garnich.lu
SUMMARY:Handaarbecht
DESCRIPTION:
URL:https://garnich.lu/event/handaarbecht-5/
LOCATION:Dahlem\, am Keller\, 3\, rue de l'École\, Dahlem\, 8352\, Luxembourg
ATTACH;FMTTYPE=image/jpeg:https://garnich.lu/wp-content/uploads/2018/10/Be-creative-e1538487652819.jpg
ORGANIZER;CN="Duelemer Leit asbl":MAILTO:duelemer.leit@garnich.lu
END:VEVENT
BEGIN:VEVENT
DTSTART;VALUE=DATE:20181013
DTEND;VALUE=DATE:20181014
DTSTAMP:20260422T115824
CREATED:20181003T071715Z
LAST-MODIFIED:20181003T071715Z
UID:5760-1539388800-1539475199@garnich.lu
SUMMARY:Hämmelsmarsch
DESCRIPTION:D’Garnecher Musik spillt den Hämmelsmarsch zu Koler.
URL:https://garnich.lu/event/hammelsmarsch-2/
LOCATION:Kahler
ATTACH;FMTTYPE=image/jpeg:https://garnich.lu/wp-content/uploads/2018/10/Sheep-e1538550152880.jpg
END:VEVENT
BEGIN:VEVENT
DTSTART;TZID=Europe/Luxembourg:20181013T094500
DTEND;TZID=Europe/Luxembourg:20181013T173000
DTSTAMP:20260422T115824
CREATED:20181002T125855Z
LAST-MODIFIED:20181002T130044Z
UID:5706-1539423900-1539451800@garnich.lu
SUMMARY:Cours de taille pour arbres fruitiers
DESCRIPTION:FLYER
URL:https://garnich.lu/event/cours-de-taille-pour-arbres-fruitiers/
LOCATION:Dahlem\, am Keller\, 3\, rue de l'École\, Dahlem\, 8352\, Luxembourg
ATTACH;FMTTYPE=image/jpeg:https://garnich.lu/wp-content/uploads/2018/10/Apple-tree-e1538484884836.jpg
ORGANIZER;CN="SICONA":MAILTO:administration@sicona.lu
END:VEVENT
BEGIN:VEVENT
DTSTART;TZID=Europe/Luxembourg:20181020T190000
DTEND;TZID=Europe/Luxembourg:20181020T220000
DTSTAMP:20260422T115824
CREATED:20181003T071610Z
LAST-MODIFIED:20181003T071610Z
UID:5758-1540062000-1540072800@garnich.lu
SUMMARY:Duelemer Treff / Oppene Keller
DESCRIPTION:Gemittlech zesumme poteren\, spillen\, genéissen an engem gemittleche Kader. \nDir sidd wëllkomm.
URL:https://garnich.lu/event/duelemer-treff-oppene-keller-3/
LOCATION:Dahlem\, am Keller\, 3\, rue de l'École\, Dahlem\, 8352\, Luxembourg
ATTACH;FMTTYPE=image/jpeg:https://garnich.lu/wp-content/uploads/2018/10/Drinks-e1538550570322.jpg
ORGANIZER;CN="Duelemer Leit asbl":MAILTO:duelemer.leit@garnich.lu
END:VEVENT
BEGIN:VEVENT
DTSTART;VALUE=DATE:20181021
DTEND;VALUE=DATE:20181022
DTSTAMP:20260422T115824
CREATED:20180724T081821Z
LAST-MODIFIED:20180724T081919Z
UID:5021-1540080000-1540166399@garnich.lu
SUMMARY:Hierschtfest
DESCRIPTION:
URL:https://garnich.lu/event/hierschtfest/
LOCATION:Veräinshaus\, Garnich\, 6 Rue des Sacrifies\, Garnich\, L-8356\, Luxembourg
ATTACH;FMTTYPE=image/jpeg:https://garnich.lu/wp-content/uploads/2018/07/agriculture-field-grain-5980.jpg
END:VEVENT
BEGIN:VEVENT
DTSTART;TZID=Europe/Luxembourg:20181023T153000
DTEND;TZID=Europe/Luxembourg:20181023T173000
DTSTAMP:20260422T115824
CREATED:20181002T134336Z
LAST-MODIFIED:20181002T134336Z
UID:5737-1540308600-1540315800@garnich.lu
SUMMARY:Handaarbecht
DESCRIPTION:
URL:https://garnich.lu/event/handaarbecht-6/
LOCATION:Dahlem\, am Keller\, 3\, rue de l'École\, Dahlem\, 8352\, Luxembourg
ATTACH;FMTTYPE=image/jpeg:https://garnich.lu/wp-content/uploads/2018/10/Be-creative-e1538487652819.jpg
ORGANIZER;CN="Duelemer Leit asbl":MAILTO:duelemer.leit@garnich.lu
END:VEVENT
END:VCALENDAR