BEGIN:VCALENDAR
VERSION:2.0
PRODID:-//Gemeng Garnich - ECPv6.15.20//NONSGML v1.0//EN
CALSCALE:GREGORIAN
METHOD:PUBLISH
X-ORIGINAL-URL:https://garnich.lu
X-WR-CALDESC:Évènements pour Gemeng Garnich
REFRESH-INTERVAL;VALUE=DURATION:PT1H
X-Robots-Tag:noindex
X-PUBLISHED-TTL:PT1H
BEGIN:VTIMEZONE
TZID:Europe/Luxembourg
BEGIN:DAYLIGHT
TZOFFSETFROM:+0100
TZOFFSETTO:+0200
TZNAME:CEST
DTSTART:20170326T010000
END:DAYLIGHT
BEGIN:STANDARD
TZOFFSETFROM:+0200
TZOFFSETTO:+0100
TZNAME:CET
DTSTART:20171029T010000
END:STANDARD
BEGIN:DAYLIGHT
TZOFFSETFROM:+0100
TZOFFSETTO:+0200
TZNAME:CEST
DTSTART:20180325T010000
END:DAYLIGHT
BEGIN:STANDARD
TZOFFSETFROM:+0200
TZOFFSETTO:+0100
TZNAME:CET
DTSTART:20181028T010000
END:STANDARD
BEGIN:DAYLIGHT
TZOFFSETFROM:+0100
TZOFFSETTO:+0200
TZNAME:CEST
DTSTART:20190331T010000
END:DAYLIGHT
BEGIN:STANDARD
TZOFFSETFROM:+0200
TZOFFSETTO:+0100
TZNAME:CET
DTSTART:20191027T010000
END:STANDARD
END:VTIMEZONE
BEGIN:VEVENT
DTSTART;VALUE=DATE:20181110
DTEND;VALUE=DATE:20181111
DTSTAMP:20260422T101659
CREATED:20181003T070450Z
LAST-MODIFIED:20181003T070450Z
UID:5746-1541808000-1541894399@garnich.lu
SUMMARY:Hämmelsmarsch
DESCRIPTION:D’Garnecher Musik spillt den Hämmelsmarsch zu Garnich\, Duelem an Héiweng.
URL:https://garnich.lu/event/hammelsmarsch/
ATTACH;FMTTYPE=image/jpeg:https://garnich.lu/wp-content/uploads/2018/10/Sheep-e1538550152880.jpg
END:VEVENT
BEGIN:VEVENT
DTSTART;TZID=Europe/Luxembourg:20181113T153000
DTEND;TZID=Europe/Luxembourg:20181113T173000
DTSTAMP:20260422T101659
CREATED:20181002T134442Z
LAST-MODIFIED:20181002T134442Z
UID:5739-1542123000-1542130200@garnich.lu
SUMMARY:Handaarbecht
DESCRIPTION:
URL:https://garnich.lu/event/handaarbecht-7/
LOCATION:Dahlem\, am Keller\, 3\, rue de l'École\, Dahlem\, 8352\, Luxembourg
ATTACH;FMTTYPE=image/jpeg:https://garnich.lu/wp-content/uploads/2018/10/Be-creative-e1538487652819.jpg
ORGANIZER;CN="Duelemer Leit asbl":MAILTO:duelemer.leit@garnich.lu
END:VEVENT
BEGIN:VEVENT
DTSTART;TZID=Europe/Luxembourg:20181124T190000
DTEND;TZID=Europe/Luxembourg:20181124T220000
DTSTAMP:20260422T101659
CREATED:20181003T071046Z
LAST-MODIFIED:20181003T071046Z
UID:5749-1543086000-1543096800@garnich.lu
SUMMARY:Duelemer Treff / Oppene Keller
DESCRIPTION:Gemittlech zesumme poteren\, spillen\, genéissen an engem gemittleche Kader. \nDir sidd wëllkomm.
URL:https://garnich.lu/event/duelemer-treff-oppene-keller/
LOCATION:Dahlem\, am Keller\, 3\, rue de l'École\, Dahlem\, 8352\, Luxembourg
ATTACH;FMTTYPE=image/jpeg:https://garnich.lu/wp-content/uploads/2018/10/Drinks-e1538550570322.jpg
ORGANIZER;CN="Duelemer Leit asbl":MAILTO:duelemer.leit@garnich.lu
END:VEVENT
BEGIN:VEVENT
DTSTART;TZID=Europe/Luxembourg:20181127T153000
DTEND;TZID=Europe/Luxembourg:20181127T173000
DTSTAMP:20260422T101659
CREATED:20181002T134548Z
LAST-MODIFIED:20181002T134548Z
UID:5741-1543332600-1543339800@garnich.lu
SUMMARY:Handaarbecht
DESCRIPTION:
URL:https://garnich.lu/event/handaarbecht-8/
LOCATION:Dahlem\, am Keller\, 3\, rue de l'École\, Dahlem\, 8352\, Luxembourg
ATTACH;FMTTYPE=image/jpeg:https://garnich.lu/wp-content/uploads/2018/10/Be-creative-e1538487652819.jpg
ORGANIZER;CN="Duelemer Leit asbl":MAILTO:duelemer.leit@garnich.lu
END:VEVENT
BEGIN:VEVENT
DTSTART;TZID=Europe/Luxembourg:20181128T190000
DTEND;TZID=Europe/Luxembourg:20181128T213000
DTSTAMP:20260422T101659
CREATED:20181003T071438Z
LAST-MODIFIED:20181108T083829Z
UID:5755-1543431600-1543440600@garnich.lu
SUMMARY:Adventskränz bastelen
DESCRIPTION:Bastelt selwer ären Adventskranz !
URL:https://garnich.lu/event/adventskranz-bastelen/
LOCATION:Dahlem\, am Keller\, 3\, rue de l'École\, Dahlem\, 8352\, Luxembourg
ATTACH;FMTTYPE=image/jpeg:https://garnich.lu/wp-content/uploads/2018/11/Mir-maachen-een-Adventskranz-28.11.2018.jpg
ORGANIZER;CN="Duelemer Leit asbl":MAILTO:duelemer.leit@garnich.lu
END:VEVENT
END:VCALENDAR