BEGIN:VCALENDAR
VERSION:2.0
PRODID:-//Gemeng Garnich - ECPv6.15.20//NONSGML v1.0//EN
CALSCALE:GREGORIAN
METHOD:PUBLISH
X-ORIGINAL-URL:https://garnich.lu
X-WR-CALDESC:Évènements pour Gemeng Garnich
REFRESH-INTERVAL;VALUE=DURATION:PT1H
X-Robots-Tag:noindex
X-PUBLISHED-TTL:PT1H
BEGIN:VTIMEZONE
TZID:Europe/Luxembourg
BEGIN:DAYLIGHT
TZOFFSETFROM:+0100
TZOFFSETTO:+0200
TZNAME:CEST
DTSTART:20170326T010000
END:DAYLIGHT
BEGIN:STANDARD
TZOFFSETFROM:+0200
TZOFFSETTO:+0100
TZNAME:CET
DTSTART:20171029T010000
END:STANDARD
BEGIN:DAYLIGHT
TZOFFSETFROM:+0100
TZOFFSETTO:+0200
TZNAME:CEST
DTSTART:20180325T010000
END:DAYLIGHT
BEGIN:STANDARD
TZOFFSETFROM:+0200
TZOFFSETTO:+0100
TZNAME:CET
DTSTART:20181028T010000
END:STANDARD
BEGIN:DAYLIGHT
TZOFFSETFROM:+0100
TZOFFSETTO:+0200
TZNAME:CEST
DTSTART:20190331T010000
END:DAYLIGHT
BEGIN:STANDARD
TZOFFSETFROM:+0200
TZOFFSETTO:+0100
TZNAME:CET
DTSTART:20191027T010000
END:STANDARD
END:VTIMEZONE
BEGIN:VEVENT
DTSTART;VALUE=DATE:20181201
DTEND;VALUE=DATE:20181202
DTSTAMP:20260422T083909
CREATED:20181003T072003Z
LAST-MODIFIED:20181003T072003Z
UID:5763-1543622400-1543708799@garnich.lu
SUMMARY:Kleeschen on tour
DESCRIPTION:De Club des jeunes kënnt mam Kleeschen duerch d’ganz Gemeng.
URL:https://garnich.lu/event/kleeschen-on-tour/
LOCATION:Garnich\, Garnich\, Luxembourg
ATTACH;FMTTYPE=image/jpeg:https://garnich.lu/wp-content/uploads/2018/10/Santa-Claus-2-e1538551121867.jpg
END:VEVENT
BEGIN:VEVENT
DTSTART;VALUE=DATE:20181202
DTEND;VALUE=DATE:20181203
DTSTAMP:20260422T083909
CREATED:20181003T072256Z
LAST-MODIFIED:20181107T120458Z
UID:5766-1543708800-1543795199@garnich.lu
SUMMARY:Aventsfeier mat Hobbyausstellung
DESCRIPTION:Mëttegiessen: Waarm Ham mat Fritten an Zalot / Paschtéit mat Fritten an Zalot\nAm Nomëtten: Musikalesch Ënnerhalung um Akkordeon mam Isabelle Chaussy\nKaffisstuff a villes méi…
URL:https://garnich.lu/event/aventsfeier-mat-hobbyausstellung/
LOCATION:Veräinshaus\, Garnich\, 6 Rue des Sacrifies\, Garnich\, L-8356\, Luxembourg
ATTACH;FMTTYPE=image/jpeg:https://garnich.lu/wp-content/uploads/2018/11/Adventsfeier-2.12.2018.jpg
END:VEVENT
BEGIN:VEVENT
DTSTART;TZID=Europe/Luxembourg:20181205T140000
DTEND;TZID=Europe/Luxembourg:20181205T180000
DTSTAMP:20260422T083909
CREATED:20181002T131440Z
LAST-MODIFIED:20181122T080013Z
UID:5714-1544018400-1544032800@garnich.lu
SUMMARY:Fête + Marché Saint Nicolas
DESCRIPTION:FLYER Fête St Nicolas \nFLYER Marché St Nicolas \n 
URL:https://garnich.lu/event/fete-saint-nicolas/
LOCATION:Veräinshaus\, Garnich\, 6 Rue des Sacrifies\, Garnich\, L-8356\, Luxembourg
ATTACH;FMTTYPE=image/jpeg:https://garnich.lu/wp-content/uploads/2018/10/Santa-Claus-e1538485888790.jpg
ORGANIZER;CN="Administration communale Garnich":MAILTO:garnich@pt.lu
END:VEVENT
BEGIN:VEVENT
DTSTART;TZID=Europe/Luxembourg:20181208T200000
DTEND;TZID=Europe/Luxembourg:20181208T220000
DTSTAMP:20260422T083909
CREATED:20181003T073800Z
LAST-MODIFIED:20181115T103416Z
UID:5774-1544299200-1544306400@garnich.lu
SUMMARY:Concert 'Christmas Carols'
DESCRIPTION:FLYER
URL:https://garnich.lu/event/concert-christmas-carols/
LOCATION:Eglise de Garnich\, rue Saint Hubert\, Garnich\, 8356\, Luxembourg
ATTACH;FMTTYPE=image/jpeg:https://garnich.lu/wp-content/uploads/2018/10/Chorale-Noël-e1538552225977.jpg
ORGANIZER;CN="Commission culturelle de Garnich":MAILTO:info@garnich.lu
END:VEVENT
BEGIN:VEVENT
DTSTART;TZID=Europe/Luxembourg:20181209T133000
DTEND;TZID=Europe/Luxembourg:20181209T180000
DTSTAMP:20260422T083909
CREATED:20181003T073241Z
LAST-MODIFIED:20181003T073241Z
UID:5771-1544362200-1544378400@garnich.lu
SUMMARY:Monte Carlo Tournoi
DESCRIPTION:Den Erléis gëtt gespend fir de gudden Zweck. \nFLYER
URL:https://garnich.lu/event/monte-carlo-tournoi/
LOCATION:Dahlem\, am Keller\, 3\, rue de l'École\, Dahlem\, 8352\, Luxembourg
ATTACH;FMTTYPE=image/jpeg:https://garnich.lu/wp-content/uploads/2018/10/Cards-e1538551502873.jpg
ORGANIZER;CN="Opel Hecktriebler L%C3%ABtzebuerg asbl":MAILTO:arendguy@hotmail.de
END:VEVENT
BEGIN:VEVENT
DTSTART;TZID=Europe/Luxembourg:20181211T153000
DTEND;TZID=Europe/Luxembourg:20181211T173000
DTSTAMP:20260422T083909
CREATED:20181002T134639Z
LAST-MODIFIED:20181002T134639Z
UID:5743-1544542200-1544549400@garnich.lu
SUMMARY:Handaarbecht
DESCRIPTION:
URL:https://garnich.lu/event/handaarbecht-9/
LOCATION:Dahlem\, am Keller\, 3\, rue de l'École\, Dahlem\, 8352\, Luxembourg
ATTACH;FMTTYPE=image/jpeg:https://garnich.lu/wp-content/uploads/2018/10/Be-creative-e1538487652819.jpg
ORGANIZER;CN="Duelemer Leit asbl":MAILTO:duelemer.leit@garnich.lu
END:VEVENT
BEGIN:VEVENT
DTSTART;VALUE=DATE:20181214
DTEND;VALUE=DATE:20181215
DTSTAMP:20260422T083909
CREATED:20181003T094605Z
LAST-MODIFIED:20181128T101346Z
UID:5809-1544745600-1544831999@garnich.lu
SUMMARY:Theater
DESCRIPTION:D’Garnecher Musek invitéiert op hir traditionell Theateropféierungen. \nFLYER
URL:https://garnich.lu/event/theater/
LOCATION:Veräinshaus\, Garnich\, 6 Rue des Sacrifies\, Garnich\, L-8356\, Luxembourg
ATTACH;FMTTYPE=image/jpeg:https://garnich.lu/wp-content/uploads/2018/11/Theater-Garnech-2018.jpg
END:VEVENT
BEGIN:VEVENT
DTSTART;VALUE=DATE:20181215
DTEND;VALUE=DATE:20181216
DTSTAMP:20260422T083909
CREATED:20181003T094646Z
LAST-MODIFIED:20181128T101314Z
UID:5811-1544832000-1544918399@garnich.lu
SUMMARY:Theater
DESCRIPTION:D’Garnecher Musek invitéiert op hir traditionell Theateropféierungen. \nFLYER
URL:https://garnich.lu/event/theater-2/
LOCATION:Veräinshaus\, Garnich\, 6 Rue des Sacrifies\, Garnich\, L-8356\, Luxembourg
ATTACH;FMTTYPE=image/jpeg:https://garnich.lu/wp-content/uploads/2018/11/Theater-Garnech-2018.jpg
END:VEVENT
BEGIN:VEVENT
DTSTART;TZID=Europe/Luxembourg:20181215T190000
DTEND;TZID=Europe/Luxembourg:20181215T220000
DTSTAMP:20260422T083909
CREATED:20181003T071142Z
LAST-MODIFIED:20181003T071521Z
UID:5752-1544900400-1544911200@garnich.lu
SUMMARY:Duelemer Treff / Oppene Keller
DESCRIPTION:Gemittlech zesumme poteren\, spillen\, genéissen an engem gemittleche Kader. \nDir sidd wëllkomm.
URL:https://garnich.lu/event/duelemer-treff-oppene-keller-2/
LOCATION:Dahlem\, am Keller\, 3\, rue de l'École\, Dahlem\, 8352\, Luxembourg
ATTACH;FMTTYPE=image/jpeg:https://garnich.lu/wp-content/uploads/2018/10/Drinks-e1538550570322.jpg
ORGANIZER;CN="Duelemer Leit asbl":MAILTO:duelemer.leit@garnich.lu
END:VEVENT
BEGIN:VEVENT
DTSTART;VALUE=DATE:20181216
DTEND;VALUE=DATE:20181217
DTSTAMP:20260422T083909
CREATED:20181003T094737Z
LAST-MODIFIED:20181128T101235Z
UID:5813-1544918400-1545004799@garnich.lu
SUMMARY:Theater
DESCRIPTION:D’Garnecher Musek invitéiert op hir traditionell Theateropféierungen. \nFLYER
URL:https://garnich.lu/event/theater-3/
LOCATION:Veräinshaus\, Garnich\, 6 Rue des Sacrifies\, Garnich\, L-8356\, Luxembourg
ATTACH;FMTTYPE=image/jpeg:https://garnich.lu/wp-content/uploads/2018/11/Theater-Garnech-2018.jpg
END:VEVENT
BEGIN:VEVENT
DTSTART;TZID=Europe/Luxembourg:20181221T193000
DTEND;TZID=Europe/Luxembourg:20181221T213000
DTSTAMP:20260422T083909
CREATED:20181003T074011Z
LAST-MODIFIED:20181122T094942Z
UID:5777-1545420600-1545427800@garnich.lu
SUMMARY:Concert de Noël
DESCRIPTION:Traditionelle Chrëschtconcert an der Garnicher Kierch. \nFLYER
URL:https://garnich.lu/event/concert-de-noel/
LOCATION:Eglise de Garnich\, rue Saint Hubert\, Garnich\, 8356\, Luxembourg
ATTACH;FMTTYPE=image/jpeg:https://garnich.lu/wp-content/uploads/2018/11/Chrëschtconcert-2018-Flyer_1.jpg
ORGANIZER;CN="Commission culturelle de Garnich":MAILTO:info@garnich.lu
END:VEVENT
END:VCALENDAR