BEGIN:VCALENDAR
VERSION:2.0
PRODID:-//Gemeng Garnich - ECPv6.15.20//NONSGML v1.0//EN
CALSCALE:GREGORIAN
METHOD:PUBLISH
X-ORIGINAL-URL:https://garnich.lu
X-WR-CALDESC:Évènements pour Gemeng Garnich
REFRESH-INTERVAL;VALUE=DURATION:PT1H
X-Robots-Tag:noindex
X-PUBLISHED-TTL:PT1H
BEGIN:VTIMEZONE
TZID:Europe/Luxembourg
BEGIN:DAYLIGHT
TZOFFSETFROM:+0100
TZOFFSETTO:+0200
TZNAME:CEST
DTSTART:20180325T010000
END:DAYLIGHT
BEGIN:STANDARD
TZOFFSETFROM:+0200
TZOFFSETTO:+0100
TZNAME:CET
DTSTART:20181028T010000
END:STANDARD
BEGIN:DAYLIGHT
TZOFFSETFROM:+0100
TZOFFSETTO:+0200
TZNAME:CEST
DTSTART:20190331T010000
END:DAYLIGHT
BEGIN:STANDARD
TZOFFSETFROM:+0200
TZOFFSETTO:+0100
TZNAME:CET
DTSTART:20191027T010000
END:STANDARD
BEGIN:DAYLIGHT
TZOFFSETFROM:+0100
TZOFFSETTO:+0200
TZNAME:CEST
DTSTART:20200329T010000
END:DAYLIGHT
BEGIN:STANDARD
TZOFFSETFROM:+0200
TZOFFSETTO:+0100
TZNAME:CET
DTSTART:20201025T010000
END:STANDARD
END:VTIMEZONE
BEGIN:VEVENT
DTSTART;VALUE=DATE:20190106
DTEND;VALUE=DATE:20190107
DTSTAMP:20260422T081306
CREATED:20181003T094819Z
LAST-MODIFIED:20181003T094819Z
UID:5815-1546732800-1546819199@garnich.lu
SUMMARY:Neijoerspatt
DESCRIPTION:
URL:https://garnich.lu/event/neijoerspatt/
LOCATION:Dahlem\, am Keller\, 3\, rue de l'École\, Dahlem\, 8352\, Luxembourg
ATTACH;FMTTYPE=image/jpeg:https://garnich.lu/wp-content/uploads/2018/10/Drinks-e1538550570322.jpg
ORGANIZER;CN="Duelemer Leit asbl":MAILTO:duelemer.leit@garnich.lu
END:VEVENT
BEGIN:VEVENT
DTSTART;TZID=Europe/Luxembourg:20190108T153000
DTEND;TZID=Europe/Luxembourg:20190108T173000
DTSTAMP:20260422T081306
CREATED:20190107T135400Z
LAST-MODIFIED:20190107T135506Z
UID:6201-1546961400-1546968600@garnich.lu
SUMMARY:Handaarbecht
DESCRIPTION:
URL:https://garnich.lu/event/handaarbecht-10/
LOCATION:Dahlem\, am Keller\, 3\, rue de l'École\, Dahlem\, 8352\, Luxembourg
ATTACH;FMTTYPE=image/jpeg:https://garnich.lu/wp-content/uploads/2019/01/Knit-e1547201113806.jpg
ORGANIZER;CN="Duelemer Leit asbl":MAILTO:duelemer.leit@garnich.lu
END:VEVENT
BEGIN:VEVENT
DTSTART;VALUE=DATE:20190112
DTEND;VALUE=DATE:20190113
DTSTAMP:20260422T081306
CREATED:20190107T140217Z
LAST-MODIFIED:20190107T140314Z
UID:6213-1547251200-1547337599@garnich.lu
SUMMARY:Chrëschtbeemerscher asammelen / Ramassage de sapins de Noël
DESCRIPTION:En vue de préparer la fête des brandons du 10 mars 2019\, l’association « Opel Hecktriebler » vous propose de prendre en charge votre ancien sapin de Noël.\nLe ramassage se fera dans les localités de Garnich\, Dahlem et Hivange\, notamment en date du samedi\, 12 janvier 2019. Les sapins devront être posés sur le trottoir avant 10.00 heures.
URL:https://garnich.lu/event/chreschtbeemerscher-asammelen-ramassage-de-sapins-de-noel/
LOCATION:Garnich\, Garnich\, Luxembourg
ATTACH;FMTTYPE=image/jpeg:https://garnich.lu/wp-content/uploads/2019/01/Christmas-tree-e1547201104913.jpg
ORGANIZER;CN="Opel Hecktriebler L%C3%ABtzebuerg asbl":MAILTO:arendguy@hotmail.de
END:VEVENT
BEGIN:VEVENT
DTSTART;TZID=Europe/Luxembourg:20190119T160000
DTEND;TZID=Europe/Luxembourg:20190119T173000
DTSTAMP:20260422T081306
CREATED:20190107T140926Z
LAST-MODIFIED:20190111T092248Z
UID:6216-1547913600-1547919000@garnich.lu
SUMMARY:Generalversammlung "Opel Hecktriebler"
DESCRIPTION:
URL:https://garnich.lu/event/generalversammlung-opel-hecktriebler/
LOCATION:Veräinshaus\, Garnich\, 6 Rue des Sacrifies\, Garnich\, L-8356\, Luxembourg
ATTACH;FMTTYPE=image/jpeg:https://garnich.lu/wp-content/uploads/2018/12/Meeting-e1547201147191.jpg
ORGANIZER;CN="Opel Hecktriebler L%C3%ABtzebuerg asbl":MAILTO:arendguy@hotmail.de
END:VEVENT
BEGIN:VEVENT
DTSTART;VALUE=DATE:20190120
DTEND;VALUE=DATE:20190121
DTSTAMP:20260422T081306
CREATED:20181227T085120Z
LAST-MODIFIED:20181227T085133Z
UID:6159-1547942400-1548028799@garnich.lu
SUMMARY:Marche populaire
DESCRIPTION:FLYER
URL:https://garnich.lu/event/marche-populaire/
LOCATION:Veräinshaus\, Garnich\, 6 Rue des Sacrifies\, Garnich\, L-8356\, Luxembourg
ATTACH;FMTTYPE=image/jpeg:https://garnich.lu/wp-content/uploads/2018/12/Affiche-Marche-populaire.jpg
END:VEVENT
BEGIN:VEVENT
DTSTART;TZID=Europe/Luxembourg:20190122T153000
DTEND;TZID=Europe/Luxembourg:20190122T173000
DTSTAMP:20260422T081306
CREATED:20190107T135442Z
LAST-MODIFIED:20190107T135442Z
UID:6203-1548171000-1548178200@garnich.lu
SUMMARY:Handaarbecht
DESCRIPTION:
URL:https://garnich.lu/event/handaarbecht-11/
LOCATION:Dahlem\, am Keller\, 3\, rue de l'École\, Dahlem\, 8352\, Luxembourg
ATTACH;FMTTYPE=image/jpeg:https://garnich.lu/wp-content/uploads/2019/01/Knit-e1547201113806.jpg
ORGANIZER;CN="Duelemer Leit asbl":MAILTO:duelemer.leit@garnich.lu
END:VEVENT
BEGIN:VEVENT
DTSTART;VALUE=DATE:20190126
DTEND;VALUE=DATE:20190127
DTSTAMP:20260422T081306
CREATED:20190107T141633Z
LAST-MODIFIED:20190107T141633Z
UID:6218-1548460800-1548547199@garnich.lu
SUMMARY:Generalversammlung "Spuerveräin"
DESCRIPTION:
URL:https://garnich.lu/event/generalversammlung-spuerverain/
LOCATION:Café « Duelemer Stuff »\, 2\, Rue de Hivange\, Dahlem\, 8351\, Luxembourg
ATTACH;FMTTYPE=image/jpeg:https://garnich.lu/wp-content/uploads/2018/12/Meeting-e1547201147191.jpg
END:VEVENT
END:VCALENDAR