BEGIN:VCALENDAR
VERSION:2.0
PRODID:-//Gemeng Garnich - ECPv6.15.20//NONSGML v1.0//EN
CALSCALE:GREGORIAN
METHOD:PUBLISH
X-WR-CALNAME:Gemeng Garnich
X-ORIGINAL-URL:https://garnich.lu
X-WR-CALDESC:Évènements pour Gemeng Garnich
REFRESH-INTERVAL;VALUE=DURATION:PT1H
X-Robots-Tag:noindex
X-PUBLISHED-TTL:PT1H
BEGIN:VTIMEZONE
TZID:Europe/Luxembourg
BEGIN:DAYLIGHT
TZOFFSETFROM:+0100
TZOFFSETTO:+0200
TZNAME:CEST
DTSTART:20180325T010000
END:DAYLIGHT
BEGIN:STANDARD
TZOFFSETFROM:+0200
TZOFFSETTO:+0100
TZNAME:CET
DTSTART:20181028T010000
END:STANDARD
BEGIN:DAYLIGHT
TZOFFSETFROM:+0100
TZOFFSETTO:+0200
TZNAME:CEST
DTSTART:20190331T010000
END:DAYLIGHT
BEGIN:STANDARD
TZOFFSETFROM:+0200
TZOFFSETTO:+0100
TZNAME:CET
DTSTART:20191027T010000
END:STANDARD
BEGIN:DAYLIGHT
TZOFFSETFROM:+0100
TZOFFSETTO:+0200
TZNAME:CEST
DTSTART:20200329T010000
END:DAYLIGHT
BEGIN:STANDARD
TZOFFSETFROM:+0200
TZOFFSETTO:+0100
TZNAME:CET
DTSTART:20201025T010000
END:STANDARD
END:VTIMEZONE
BEGIN:VEVENT
DTSTART;VALUE=DATE:20190203
DTEND;VALUE=DATE:20190204
DTSTAMP:20260422T044840
CREATED:20190109T111658Z
LAST-MODIFIED:20190109T111814Z
UID:6223-1549152000-1549238399@garnich.lu
SUMMARY:Generalversammlung Garnecher Musek
DESCRIPTION:
URL:https://garnich.lu/event/generalversammlung-garnecher-musek/
LOCATION:Veräinshaus\, Garnich\, 6 Rue des Sacrifies\, Garnich\, L-8356\, Luxembourg
ATTACH;FMTTYPE=image/jpeg:https://garnich.lu/wp-content/uploads/2018/12/Meeting-e1547201147191.jpg
END:VEVENT
BEGIN:VEVENT
DTSTART;VALUE=DATE:20190206
DTEND;VALUE=DATE:20190207
DTSTAMP:20260422T044840
CREATED:20181002T132953Z
LAST-MODIFIED:20181002T132953Z
UID:5725-1549411200-1549497599@garnich.lu
SUMMARY:SuperDrecksKëscht
DESCRIPTION:8h30 – 15.00 „Haus zu Haus Sammlung“ → Garnich / Dahlem / Hivange / Kahler \n9h00 – 17.00   „Service-Center“ → Garnich\, Botterkräiz
URL:https://garnich.lu/event/superdreckskescht/
LOCATION:Garnich\, Garnich\, Luxembourg
END:VEVENT
BEGIN:VEVENT
DTSTART;VALUE=DATE:20190209
DTEND;VALUE=DATE:20190210
DTSTAMP:20260422T044840
CREATED:20190109T112004Z
LAST-MODIFIED:20190109T112004Z
UID:6225-1549670400-1549756799@garnich.lu
SUMMARY:Generalversammlung Gaart an Heem Garnech\, Duelem\, Héiweng
DESCRIPTION:
URL:https://garnich.lu/event/generalversammlung-gaart-an-heem-garnech-duelem-heiweng/
LOCATION:Veräinshaus\, Garnich\, 6 Rue des Sacrifies\, Garnich\, L-8356\, Luxembourg
ATTACH;FMTTYPE=image/jpeg:https://garnich.lu/wp-content/uploads/2018/12/Meeting-e1547201147191.jpg
END:VEVENT
BEGIN:VEVENT
DTSTART;TZID=Europe/Luxembourg:20190212T153000
DTEND;TZID=Europe/Luxembourg:20190212T173000
DTSTAMP:20260422T044840
CREATED:20190107T135540Z
LAST-MODIFIED:20190107T135540Z
UID:6205-1549985400-1549992600@garnich.lu
SUMMARY:Handaarbecht
DESCRIPTION:
URL:https://garnich.lu/event/handaarbecht-12/
LOCATION:Dahlem\, am Keller\, 3\, rue de l'École\, Dahlem\, 8352\, Luxembourg
ATTACH;FMTTYPE=image/jpeg:https://garnich.lu/wp-content/uploads/2019/01/Knit-e1547201113806.jpg
ORGANIZER;CN="Duelemer Leit asbl":MAILTO:duelemer.leit@garnich.lu
END:VEVENT
BEGIN:VEVENT
DTSTART;TZID=Europe/Luxembourg:20190223T190000
DTEND;TZID=Europe/Luxembourg:20190223T203000
DTSTAMP:20260422T044840
CREATED:20190212T114053Z
LAST-MODIFIED:20190212T114053Z
UID:6542-1550948400-1550953800@garnich.lu
SUMMARY:Generalversammlung "Club des jeunes Koler"
DESCRIPTION:
URL:https://garnich.lu/event/generalversammlung-club-des-jeunes-koler/
LOCATION:Duerfzenter Koler\, 38\, rue Principale\, Kahler\, 8376
ATTACH;FMTTYPE=image/jpeg:https://garnich.lu/wp-content/uploads/2018/12/Meeting-e1547201147191.jpg
END:VEVENT
BEGIN:VEVENT
DTSTART;TZID=Europe/Luxembourg:20190224T140000
DTEND;TZID=Europe/Luxembourg:20190224T180000
DTSTAMP:20260422T044840
CREATED:20181203T095809Z
LAST-MODIFIED:20181203T095809Z
UID:6008-1551016800-1551031200@garnich.lu
SUMMARY:Kannerfuesbal
DESCRIPTION:FLYER
URL:https://garnich.lu/event/kannerfuesbal/
LOCATION:Veräinshaus\, Garnich\, 6 Rue des Sacrifies\, Garnich\, L-8356\, Luxembourg
ATTACH;FMTTYPE=image/jpeg:https://garnich.lu/wp-content/uploads/2018/12/Wandertramps-Kannerfuesbal-2019.jpg
END:VEVENT
BEGIN:VEVENT
DTSTART;TZID=Europe/Luxembourg:20190226T153000
DTEND;TZID=Europe/Luxembourg:20190226T173000
DTSTAMP:20260422T044840
CREATED:20190107T135619Z
LAST-MODIFIED:20190107T135638Z
UID:6207-1551195000-1551202200@garnich.lu
SUMMARY:Handaarbecht
DESCRIPTION:
URL:https://garnich.lu/event/handaarbecht-13/
LOCATION:Dahlem\, am Keller\, 3\, rue de l'École\, Dahlem\, 8352\, Luxembourg
ATTACH;FMTTYPE=image/jpeg:https://garnich.lu/wp-content/uploads/2019/01/Knit-e1547201113806.jpg
ORGANIZER;CN="Duelemer Leit asbl":MAILTO:duelemer.leit@garnich.lu
END:VEVENT
BEGIN:VEVENT
DTSTART;TZID=Europe/Luxembourg:20190227T193000
DTEND;TZID=Europe/Luxembourg:20190227T210000
DTSTAMP:20260422T044840
CREATED:20190109T113041Z
LAST-MODIFIED:20190221T080131Z
UID:6230-1551295800-1551301200@garnich.lu
SUMMARY:Generalversammlung "D'Héiwenger"
DESCRIPTION:
URL:https://garnich.lu/event/generalversammlung-dheiwenger/
LOCATION:Hivange\, Al Spillschoul\, Hivange\, Luxembourg
ATTACH;FMTTYPE=image/jpeg:https://garnich.lu/wp-content/uploads/2018/12/Meeting-e1547201147191.jpg
END:VEVENT
BEGIN:VEVENT
DTSTART;VALUE=DATE:20190228
DTEND;VALUE=DATE:20190301
DTSTAMP:20260422T044840
CREATED:20190109T113144Z
LAST-MODIFIED:20190109T113144Z
UID:6232-1551312000-1551398399@garnich.lu
SUMMARY:Generalversammlung "Chorale Ste Cécile Garnich-Dahlem"
DESCRIPTION:
URL:https://garnich.lu/event/generalversammlung-chorale-ste-cecile-garnich-dahlem/
LOCATION:Veräinshaus\, Garnich\, 6 Rue des Sacrifies\, Garnich\, L-8356\, Luxembourg
ATTACH;FMTTYPE=image/jpeg:https://garnich.lu/wp-content/uploads/2018/12/Meeting-e1547201147191.jpg
END:VEVENT
END:VCALENDAR