BEGIN:VCALENDAR
VERSION:2.0
PRODID:-//Gemeng Garnich - ECPv6.15.20//NONSGML v1.0//EN
CALSCALE:GREGORIAN
METHOD:PUBLISH
X-WR-CALNAME:Gemeng Garnich
X-ORIGINAL-URL:https://garnich.lu
X-WR-CALDESC:Évènements pour Gemeng Garnich
REFRESH-INTERVAL;VALUE=DURATION:PT1H
X-Robots-Tag:noindex
X-PUBLISHED-TTL:PT1H
BEGIN:VTIMEZONE
TZID:Europe/Luxembourg
BEGIN:DAYLIGHT
TZOFFSETFROM:+0100
TZOFFSETTO:+0200
TZNAME:CEST
DTSTART:20180325T010000
END:DAYLIGHT
BEGIN:STANDARD
TZOFFSETFROM:+0200
TZOFFSETTO:+0100
TZNAME:CET
DTSTART:20181028T010000
END:STANDARD
BEGIN:DAYLIGHT
TZOFFSETFROM:+0100
TZOFFSETTO:+0200
TZNAME:CEST
DTSTART:20190331T010000
END:DAYLIGHT
BEGIN:STANDARD
TZOFFSETFROM:+0200
TZOFFSETTO:+0100
TZNAME:CET
DTSTART:20191027T010000
END:STANDARD
BEGIN:DAYLIGHT
TZOFFSETFROM:+0100
TZOFFSETTO:+0200
TZNAME:CEST
DTSTART:20200329T010000
END:DAYLIGHT
BEGIN:STANDARD
TZOFFSETFROM:+0200
TZOFFSETTO:+0100
TZNAME:CET
DTSTART:20201025T010000
END:STANDARD
END:VTIMEZONE
BEGIN:VEVENT
DTSTART;VALUE=DATE:20190406
DTEND;VALUE=DATE:20190407
DTSTAMP:20260422T010209
CREATED:20190227T094748Z
LAST-MODIFIED:20190227T094748Z
UID:6594-1554508800-1554595199@garnich.lu
SUMMARY:Koler Filmnomëtteg
DESCRIPTION:Presentatioun vun den 3 Koler Filmer am KINOLER \n15 Auer: Koler Moderniséierung \n16 Auer: « Make Koler Kooler » De Film \n17 Auer: « Relok »
URL:https://garnich.lu/event/koler-filmnometteg/
LOCATION:Duerfzenter Koler\, 38\, rue Principale\, Kahler\, 8376
END:VEVENT
BEGIN:VEVENT
DTSTART;VALUE=DATE:20190418
DTEND;VALUE=DATE:20190419
DTSTAMP:20260422T010209
CREATED:20181228T134658Z
LAST-MODIFIED:20181228T134658Z
UID:6180-1555545600-1555631999@garnich.lu
SUMMARY:Ouschtereeër fierwen
DESCRIPTION:
URL:https://garnich.lu/event/ouschtereeer-fierwen/
LOCATION:Dahlem\, am Keller\, 3\, rue de l'École\, Dahlem\, 8352\, Luxembourg
ATTACH;FMTTYPE=image/jpeg:https://garnich.lu/wp-content/uploads/2018/12/Easter-egg-e1547201139331.jpg
ORGANIZER;CN="Duelemer Leit asbl":MAILTO:duelemer.leit@garnich.lu
END:VEVENT
BEGIN:VEVENT
DTSTART;VALUE=DATE:20190418
DTEND;VALUE=DATE:20190419
DTSTAMP:20260422T010209
CREATED:20190111T092539Z
LAST-MODIFIED:20190111T092539Z
UID:6266-1555545600-1555631999@garnich.lu
SUMMARY:Ouschtereeëraktioun vum Club des Jeunes Koler
DESCRIPTION:
URL:https://garnich.lu/event/ouschtereeeraktioun-vum-club-des-jeunes-koler/
LOCATION:Commune de Garnich
ATTACH;FMTTYPE=image/jpeg:https://garnich.lu/wp-content/uploads/2018/12/Easter-egg-e1547201139331.jpg
END:VEVENT
BEGIN:VEVENT
DTSTART;TZID=Europe/Luxembourg:20190422T180000
DTEND;TZID=Europe/Luxembourg:20190422T193000
DTSTAMP:20260422T010209
CREATED:20190412T083143Z
LAST-MODIFIED:20190412T083143Z
UID:6952-1555956000-1555961400@garnich.lu
SUMMARY:Assemblée générale "GRNCH Car and Tuning Club"
DESCRIPTION:
URL:https://garnich.lu/event/assemblee-generale-grnch-car-and-tuning-club/
LOCATION:Veräinshaus\, Garnich\, 6 Rue des Sacrifies\, Garnich\, L-8356\, Luxembourg
ATTACH;FMTTYPE=image/jpeg:https://garnich.lu/wp-content/uploads/2018/05/associations-locales.jpg
END:VEVENT
BEGIN:VEVENT
DTSTART;TZID=Europe/Luxembourg:20190426T190000
DTEND;TZID=Europe/Luxembourg:20190426T233000
DTSTAMP:20260422T010209
CREATED:20190329T122113Z
LAST-MODIFIED:20190329T122113Z
UID:6894-1556305200-1556321400@garnich.lu
SUMMARY:Café Koler
DESCRIPTION:Fir iessen an drénken ass gesuergt
URL:https://garnich.lu/event/cafe-koler-2/
LOCATION:Duerfzenter Koler\, 38\, rue Principale\, Kahler\, 8376
ATTACH;FMTTYPE=image/jpeg:https://garnich.lu/wp-content/uploads/2019/03/Beer-e1553861926736.jpg
END:VEVENT
BEGIN:VEVENT
DTSTART;TZID=Europe/Luxembourg:20190427T190000
DTEND;TZID=Europe/Luxembourg:20190427T220000
DTSTAMP:20260422T010209
CREATED:20181228T134901Z
LAST-MODIFIED:20181228T134901Z
UID:6182-1556391600-1556402400@garnich.lu
SUMMARY:Duelemer Treff / Oppene Keller
DESCRIPTION:Gemittlech zesumme poteren\, spillen\, genéissen an engem gemittleche Kader. \nDir sidd wëllkomm.
URL:https://garnich.lu/event/duelemer-treff-oppene-keller-4/
LOCATION:Dahlem\, am Keller\, 3\, rue de l'École\, Dahlem\, 8352\, Luxembourg
ATTACH;FMTTYPE=image/jpeg:https://garnich.lu/wp-content/uploads/2018/10/Drinks-e1538550570322.jpg
ORGANIZER;CN="Duelemer Leit asbl":MAILTO:duelemer.leit@garnich.lu
END:VEVENT
BEGIN:VEVENT
DTSTART;TZID=Europe/Luxembourg:20190430T160000
DTEND;TZID=Europe/Luxembourg:20190430T220000
DTSTAMP:20260422T010209
CREATED:20190315T101717Z
LAST-MODIFIED:20190315T101717Z
UID:6789-1556640000-1556661600@garnich.lu
SUMMARY:Meekranz
DESCRIPTION:
URL:https://garnich.lu/event/meekranz/
LOCATION:Garnich \,Op der Juegdbud’\, Garnich\, Luxembourg
ATTACH;FMTTYPE=image/jpeg:https://garnich.lu/wp-content/uploads/2019/03/Efeu-e1552644880621.jpg
ORGANIZER;CN="Opel Hecktriebler L%C3%ABtzebuerg asbl":MAILTO:arendguy@hotmail.de
END:VEVENT
END:VCALENDAR