BEGIN:VCALENDAR
VERSION:2.0
PRODID:-//Gemeng Garnich - ECPv6.15.20//NONSGML v1.0//EN
CALSCALE:GREGORIAN
METHOD:PUBLISH
X-ORIGINAL-URL:https://garnich.lu
X-WR-CALDESC:Évènements pour Gemeng Garnich
REFRESH-INTERVAL;VALUE=DURATION:PT1H
X-Robots-Tag:noindex
X-PUBLISHED-TTL:PT1H
BEGIN:VTIMEZONE
TZID:Europe/Luxembourg
BEGIN:DAYLIGHT
TZOFFSETFROM:+0100
TZOFFSETTO:+0200
TZNAME:CEST
DTSTART:20180325T010000
END:DAYLIGHT
BEGIN:STANDARD
TZOFFSETFROM:+0200
TZOFFSETTO:+0100
TZNAME:CET
DTSTART:20181028T010000
END:STANDARD
BEGIN:DAYLIGHT
TZOFFSETFROM:+0100
TZOFFSETTO:+0200
TZNAME:CEST
DTSTART:20190331T010000
END:DAYLIGHT
BEGIN:STANDARD
TZOFFSETFROM:+0200
TZOFFSETTO:+0100
TZNAME:CET
DTSTART:20191027T010000
END:STANDARD
BEGIN:DAYLIGHT
TZOFFSETFROM:+0100
TZOFFSETTO:+0200
TZNAME:CEST
DTSTART:20200329T010000
END:DAYLIGHT
BEGIN:STANDARD
TZOFFSETFROM:+0200
TZOFFSETTO:+0100
TZNAME:CET
DTSTART:20201025T010000
END:STANDARD
END:VTIMEZONE
BEGIN:VEVENT
DTSTART;VALUE=DATE:20190501
DTEND;VALUE=DATE:20190502
DTSTAMP:20260421T232337
CREATED:20190111T092812Z
LAST-MODIFIED:20190312T081827Z
UID:6269-1556668800-1556755199@garnich.lu
SUMMARY:Randonnée Elsy Jacobs
DESCRIPTION:
URL:https://garnich.lu/event/randonnee-elsy-jacobs/
LOCATION:Garnich\, Garnich\, Luxembourg
END:VEVENT
BEGIN:VEVENT
DTSTART;VALUE=DATE:20190503
DTEND;VALUE=DATE:20190504
DTSTAMP:20260421T232337
CREATED:20181002T131940Z
LAST-MODIFIED:20190426T093657Z
UID:5717-1556841600-1556927999@garnich.lu
SUMMARY:Klengkonschtfestival ANNULÉ
DESCRIPTION:Wéinst der Staatstrauer gëtt de Concert « LIEBE TRIEBE » mam Yannchen HOFFMANN op ee spéideren Datum verluet !
URL:https://garnich.lu/event/klenkonschtfestival/
LOCATION:Veräinshaus\, Garnich\, 6 Rue des Sacrifies\, Garnich\, L-8356\, Luxembourg
ATTACH;FMTTYPE=image/jpeg:https://garnich.lu/wp-content/uploads/2019/02/LIEBE-TRIEBE-DVD-Cover-e1550652084112.jpg
ORGANIZER;CN="Commission culturelle de Garnich":MAILTO:info@garnich.lu
END:VEVENT
BEGIN:VEVENT
DTSTART;TZID=Europe/Luxembourg:20190504T080000
DTEND;TZID=Europe/Luxembourg:20190504T170000
DTSTAMP:20260421T232337
CREATED:20190227T094847Z
LAST-MODIFIED:20190227T095029Z
UID:6597-1556956800-1556989200@garnich.lu
SUMMARY:Koler Filmnomëtteg
DESCRIPTION:Presentatioun vun den 3 Koler Filmer am KINOLER \n15 Auer: Koler Moderniséierung \n16 Auer: « Make Koler Kooler » De Film \n17 Auer: « Relok »
URL:https://garnich.lu/event/koler-filmnometteg-2/
LOCATION:Duerfzenter Koler\, 38\, rue Principale\, Kahler\, 8376
END:VEVENT
BEGIN:VEVENT
DTSTART;TZID=Europe/Luxembourg:20190504T160000
DTEND;TZID=Europe/Luxembourg:20190504T180000
DTSTAMP:20260421T232337
CREATED:20180927T095325Z
LAST-MODIFIED:20190325T124735Z
UID:5685-1556985600-1556992800@garnich.lu
SUMMARY:Klengkonschtfestival
DESCRIPTION:Liesung mam Nora Wagener \nMusikalesch ankadréiert vum Isabelle Chaussy \nPLAKAT VUM KLENGKONSCHTFESTIVAL 2019 \nDEPLIANT VUM KLENGKONSCHTFESTIVAL 2019
URL:https://garnich.lu/event/klengkonschtfestival-2019/
LOCATION:Dahlem\, am Keller\, 3\, rue de l'École\, Dahlem\, 8352\, Luxembourg
ATTACH;FMTTYPE=image/jpeg:https://garnich.lu/wp-content/uploads/2019/02/Liesung-4.5.2019-Nora-Wagener-@-Philippe-Matsas-e1550652238965.jpg
ORGANIZER;CN="Commission culturelle de Garnich":MAILTO:info@garnich.lu
END:VEVENT
BEGIN:VEVENT
DTSTART;TZID=Europe/Luxembourg:20190504T200000
DTEND;TZID=Europe/Luxembourg:20190504T220000
DTSTAMP:20260421T232337
CREATED:20190220T085053Z
LAST-MODIFIED:20190325T124811Z
UID:6560-1557000000-1557007200@garnich.lu
SUMMARY:Klengkonschtfestival
DESCRIPTION:Concert « Jitz Jeitz 4t » \nPLAKAT VUM KLENGKONSCHTFESTIVAL 2019 \nDEPLIANT VUM KLENGKONSCHTFESTIVAL 2019
URL:https://garnich.lu/event/klengkonschtfestival-2/
LOCATION:Veräinshaus\, Garnich\, 6 Rue des Sacrifies\, Garnich\, L-8356\, Luxembourg
ATTACH;FMTTYPE=image/jpeg:https://garnich.lu/wp-content/uploads/2019/03/Jitz-Jeitz-Quartet-e1552472197569.jpg
ORGANIZER;CN="Commission culturelle de Garnich":MAILTO:info@garnich.lu
END:VEVENT
BEGIN:VEVENT
DTSTART;VALUE=DATE:20190505
DTEND;VALUE=DATE:20190506
DTSTAMP:20260421T232337
CREATED:20190410T075650Z
LAST-MODIFIED:20190410T075742Z
UID:6932-1557014400-1557100799@garnich.lu
SUMMARY:Stäremarsch op Schengen
DESCRIPTION:Zesumme fir Europa \nINFO
URL:https://garnich.lu/event/staremarsch-op-schengen/
LOCATION:Schengen
ATTACH;FMTTYPE=image/jpeg:https://garnich.lu/wp-content/uploads/2019/04/Stäremarsch-op-Schengen-Plakat-e1554882697794.jpg
END:VEVENT
BEGIN:VEVENT
DTSTART;VALUE=DATE:20190508
DTEND;VALUE=DATE:20190509
DTSTAMP:20260421T232337
CREATED:20181002T133114Z
LAST-MODIFIED:20181002T133114Z
UID:5728-1557273600-1557359999@garnich.lu
SUMMARY:SuperDrecksKëscht
DESCRIPTION:8h30 – 15.00 „Haus zu Haus Sammlung“ → Garnich / Dahlem / Hivange / Kahler \n9h00 – 17.00   „Service-Center“ → Garnich\, Botterkräiz
URL:https://garnich.lu/event/superdreckskescht-2/
LOCATION:Garnich\, Garnich\, Luxembourg
END:VEVENT
BEGIN:VEVENT
DTSTART;TZID=Europe/Luxembourg:20190510T173000
DTEND;TZID=Europe/Luxembourg:20190510T200000
DTSTAMP:20260421T232337
CREATED:20190411T083633Z
LAST-MODIFIED:20190411T083749Z
UID:6942-1557509400-1557518400@garnich.lu
SUMMARY:Festival Elsy Jacobs
DESCRIPTION:INFO
URL:https://garnich.lu/event/festival-elsy-jacobs-2/
LOCATION:Commune de Garnich
ATTACH;FMTTYPE=image/jpeg:https://garnich.lu/wp-content/uploads/2019/04/Festival-Elsy-Jacobs-2019-Flyer-1-e1554971659348.jpg
END:VEVENT
BEGIN:VEVENT
DTSTART;VALUE=DATE:20190511
DTEND;VALUE=DATE:20190512
DTSTAMP:20260421T232337
CREATED:20190111T093057Z
LAST-MODIFIED:20190111T093057Z
UID:6271-1557532800-1557619199@garnich.lu
SUMMARY:Nopeschfest / Fête des voisins
DESCRIPTION:
URL:https://garnich.lu/event/nopeschfest-fete-des-voisins/
LOCATION:Hivange\, Al Spillschoul\, Hivange\, Luxembourg
ATTACH;FMTTYPE=image/jpeg:https://garnich.lu/wp-content/uploads/2018/10/Drinks-e1538550570322.jpg
END:VEVENT
BEGIN:VEVENT
DTSTART;VALUE=DATE:20190512
DTEND;VALUE=DATE:20190513
DTSTAMP:20260421T232337
CREATED:20180927T100010Z
LAST-MODIFIED:20190411T084401Z
UID:5688-1557619200-1557705599@garnich.lu
SUMMARY:Festival Elsy Jacobs
DESCRIPTION:Départ et arrivée à Garnich \nINFO
URL:https://garnich.lu/event/festival-elsy-jacobs/
LOCATION:Garnich\, Garnich\, Luxembourg
ATTACH;FMTTYPE=image/jpeg:https://garnich.lu/wp-content/uploads/2019/04/Festival-Elsy-Jacobs-2019-Flyer-1-e1554971659348.jpg
END:VEVENT
BEGIN:VEVENT
DTSTART;TZID=Europe/Luxembourg:20190517T190000
DTEND;TZID=Europe/Luxembourg:20190517T233000
DTSTAMP:20260421T232337
CREATED:20190329T122154Z
LAST-MODIFIED:20190329T122154Z
UID:6896-1558119600-1558135800@garnich.lu
SUMMARY:Café Koler
DESCRIPTION:Fir iessen an drénken ass gesuergt
URL:https://garnich.lu/event/cafe-koler-3/
LOCATION:Duerfzenter Koler\, 38\, rue Principale\, Kahler\, 8376
ATTACH;FMTTYPE=image/jpeg:https://garnich.lu/wp-content/uploads/2019/03/Beer-e1553861926736.jpg
END:VEVENT
BEGIN:VEVENT
DTSTART;TZID=Europe/Luxembourg:20190518T200000
DTEND;TZID=Europe/Luxembourg:20190518T223000
DTSTAMP:20260421T232337
CREATED:20181003T100609Z
LAST-MODIFIED:20190424T095307Z
UID:5827-1558209600-1558218600@garnich.lu
SUMMARY:100 Joer Garnecher Musek - Concert Brass Band Esch
DESCRIPTION:100 Joer Garnecher Musek: Concert Brass Band Conservatoire Esch-sur-Alzette
URL:https://garnich.lu/event/100-joer-garnecher-musek-concert-brass-band-esch/
LOCATION:Veräinshaus\, Garnich\, 6 Rue des Sacrifies\, Garnich\, L-8356\, Luxembourg
ATTACH;FMTTYPE=image/jpeg:https://garnich.lu/wp-content/uploads/2019/04/Concert-Brass-Band-18.5.2019.jpg
END:VEVENT
END:VCALENDAR