BEGIN:VCALENDAR
VERSION:2.0
PRODID:-//Gemeng Garnich - ECPv6.15.20//NONSGML v1.0//EN
CALSCALE:GREGORIAN
METHOD:PUBLISH
X-ORIGINAL-URL:https://garnich.lu
X-WR-CALDESC:Évènements pour Gemeng Garnich
REFRESH-INTERVAL;VALUE=DURATION:PT1H
X-Robots-Tag:noindex
X-PUBLISHED-TTL:PT1H
BEGIN:VTIMEZONE
TZID:Europe/Luxembourg
BEGIN:DAYLIGHT
TZOFFSETFROM:+0100
TZOFFSETTO:+0200
TZNAME:CEST
DTSTART:20180325T010000
END:DAYLIGHT
BEGIN:STANDARD
TZOFFSETFROM:+0200
TZOFFSETTO:+0100
TZNAME:CET
DTSTART:20181028T010000
END:STANDARD
BEGIN:DAYLIGHT
TZOFFSETFROM:+0100
TZOFFSETTO:+0200
TZNAME:CEST
DTSTART:20190331T010000
END:DAYLIGHT
BEGIN:STANDARD
TZOFFSETFROM:+0200
TZOFFSETTO:+0100
TZNAME:CET
DTSTART:20191027T010000
END:STANDARD
BEGIN:DAYLIGHT
TZOFFSETFROM:+0100
TZOFFSETTO:+0200
TZNAME:CEST
DTSTART:20200329T010000
END:DAYLIGHT
BEGIN:STANDARD
TZOFFSETFROM:+0200
TZOFFSETTO:+0100
TZNAME:CET
DTSTART:20201025T010000
END:STANDARD
END:VTIMEZONE
BEGIN:VEVENT
DTSTART;VALUE=DATE:20190706
DTEND;VALUE=DATE:20190707
DTSTAMP:20260421T193945
CREATED:20181003T101111Z
LAST-MODIFIED:20190513T121529Z
UID:5831-1562371200-1562457599@garnich.lu
SUMMARY:100 Joer Garnecher Musek - Hamefest
DESCRIPTION:100 Joer Garnecher Musek: Hamefest\, 100-Joer Party mat den Challengers & Fascination \nGRATIS BUSNAVETTE – Detailer hei
URL:https://garnich.lu/event/100-joer-garnecher-musek-hamefest/
LOCATION:Botterkräiz\, 7 rue des Trois Cantons\, Garnich\, 8354\, Luxembourg
ATTACH;FMTTYPE=image/jpeg:https://garnich.lu/wp-content/uploads/2019/04/Hamefest-2019-Affiche-e1556101839857.jpg
END:VEVENT
BEGIN:VEVENT
DTSTART;VALUE=DATE:20190707
DTEND;VALUE=DATE:20190708
DTSTAMP:20260421T193945
CREATED:20181003T101227Z
LAST-MODIFIED:20190424T103233Z
UID:5834-1562457600-1562543999@garnich.lu
SUMMARY:100 Joer Garnecher Musek - Hamefest
DESCRIPTION:100 Joer Garnecher Musek: Hamefest\, Concerten a villes méi
URL:https://garnich.lu/event/100-joer-garnecher-musek-hamefest-2/
LOCATION:Botterkräiz\, 7 rue des Trois Cantons\, Garnich\, 8354\, Luxembourg
ATTACH;FMTTYPE=image/jpeg:https://garnich.lu/wp-content/uploads/2019/04/Hamefest-2019-Affiche-e1556101839857.jpg
END:VEVENT
BEGIN:VEVENT
DTSTART;VALUE=DATE:20190712
DTEND;VALUE=DATE:20190713
DTSTAMP:20260421T193945
CREATED:20190111T094257Z
LAST-MODIFIED:20190613T090404Z
UID:6279-1562889600-1562975999@garnich.lu
SUMMARY:Béierfest zu Koler
DESCRIPTION:FLYER
URL:https://garnich.lu/event/beierfest-zu-koler/
LOCATION:Kahler
ATTACH;FMTTYPE=image/jpeg:https://garnich.lu/wp-content/uploads/2019/06/Béier-an-Duerffest-Koler-Affiche-e1560416602746.jpg
END:VEVENT
BEGIN:VEVENT
DTSTART;VALUE=DATE:20190713
DTEND;VALUE=DATE:20190714
DTSTAMP:20260421T193945
CREATED:20181228T135247Z
LAST-MODIFIED:20190626T105539Z
UID:6187-1562976000-1563062399@garnich.lu
SUMMARY:Ausfluch mat den Duelemer Leit
DESCRIPTION:INFO
URL:https://garnich.lu/event/ausflug-mat-den-duelemer-leit/
LOCATION:Dahlem\, am Keller\, 3\, rue de l'École\, Dahlem\, 8352\, Luxembourg
ATTACH;FMTTYPE=image/jpeg:https://garnich.lu/wp-content/uploads/2018/12/Trip-e1547201130836.jpg
ORGANIZER;CN="Duelemer Leit asbl":MAILTO:duelemer.leit@garnich.lu
END:VEVENT
BEGIN:VEVENT
DTSTART;VALUE=DATE:20190714
DTEND;VALUE=DATE:20190715
DTSTAMP:20260421T193945
CREATED:20190111T094406Z
LAST-MODIFIED:20190613T090454Z
UID:6281-1563062400-1563148799@garnich.lu
SUMMARY:Duerffest zu Koler
DESCRIPTION:FLYER
URL:https://garnich.lu/event/duerffest-zu-koler/
LOCATION:Kahler
ATTACH;FMTTYPE=image/jpeg:https://garnich.lu/wp-content/uploads/2019/06/Béier-an-Duerffest-Koler-Affiche-e1560416602746.jpg
END:VEVENT
BEGIN:VEVENT
DTSTART;TZID=Europe/Luxembourg:20190719T190000
DTEND;TZID=Europe/Luxembourg:20190719T233000
DTSTAMP:20260421T193945
CREATED:20190329T122321Z
LAST-MODIFIED:20190329T122321Z
UID:6900-1563562800-1563579000@garnich.lu
SUMMARY:Café Koler
DESCRIPTION:Fir iessen an drénken ass gesuergt
URL:https://garnich.lu/event/cafe-koler-5/
LOCATION:Duerfzenter Koler\, 38\, rue Principale\, Kahler\, 8376
ATTACH;FMTTYPE=image/jpeg:https://garnich.lu/wp-content/uploads/2019/03/Beer-e1553861926736.jpg
END:VEVENT
END:VCALENDAR