BEGIN:VCALENDAR
VERSION:2.0
PRODID:-//Gemeng Garnich - ECPv6.15.20//NONSGML v1.0//EN
CALSCALE:GREGORIAN
METHOD:PUBLISH
X-ORIGINAL-URL:https://garnich.lu
X-WR-CALDESC:Évènements pour Gemeng Garnich
REFRESH-INTERVAL;VALUE=DURATION:PT1H
X-Robots-Tag:noindex
X-PUBLISHED-TTL:PT1H
BEGIN:VTIMEZONE
TZID:Europe/Luxembourg
BEGIN:DAYLIGHT
TZOFFSETFROM:+0100
TZOFFSETTO:+0200
TZNAME:CEST
DTSTART:20180325T010000
END:DAYLIGHT
BEGIN:STANDARD
TZOFFSETFROM:+0200
TZOFFSETTO:+0100
TZNAME:CET
DTSTART:20181028T010000
END:STANDARD
BEGIN:DAYLIGHT
TZOFFSETFROM:+0100
TZOFFSETTO:+0200
TZNAME:CEST
DTSTART:20190331T010000
END:DAYLIGHT
BEGIN:STANDARD
TZOFFSETFROM:+0200
TZOFFSETTO:+0100
TZNAME:CET
DTSTART:20191027T010000
END:STANDARD
BEGIN:DAYLIGHT
TZOFFSETFROM:+0100
TZOFFSETTO:+0200
TZNAME:CEST
DTSTART:20200329T010000
END:DAYLIGHT
BEGIN:STANDARD
TZOFFSETFROM:+0200
TZOFFSETTO:+0100
TZNAME:CET
DTSTART:20201025T010000
END:STANDARD
END:VTIMEZONE
BEGIN:VEVENT
DTSTART;VALUE=DATE:20191101
DTEND;VALUE=DATE:20191102
DTSTAMP:20260421T130049
CREATED:20191021T065230Z
LAST-MODIFIED:20191021T065344Z
UID:7819-1572566400-1572652799@garnich.lu
SUMMARY:80's Revival
DESCRIPTION:
URL:https://garnich.lu/event/80s-revival/
LOCATION:Duerfzenter Koler\, 38\, rue Principale\, Kahler\, 8376
ATTACH;FMTTYPE=image/jpeg:https://garnich.lu/wp-content/uploads/2019/10/Kinoler-1.11.2019.jpg
END:VEVENT
BEGIN:VEVENT
DTSTART;TZID=Europe/Luxembourg:20191108T161500
DTEND;TZID=Europe/Luxembourg:20191108T200000
DTSTAMP:20260421T130049
CREATED:20191004T075823Z
LAST-MODIFIED:20191004T080145Z
UID:7705-1573229700-1573243200@garnich.lu
SUMMARY:Porte ouverte Maison des Jeunes
DESCRIPTION:Porte ouverte am Jugendhaus zu Mamer \nFLYER
URL:https://garnich.lu/event/porte-ouverte-maison-des-jeunes/
LOCATION:Maison des Jeunes\, 24 rue du Marché\, Mamer\, 8252\, Luxembourg
ATTACH;FMTTYPE=image/jpeg:https://garnich.lu/wp-content/uploads/2019/10/Porte-ouverte-Maison-des-jeunes-8.11.2019.jpg
END:VEVENT
BEGIN:VEVENT
DTSTART;VALUE=DATE:20191110
DTEND;VALUE=DATE:20191111
DTSTAMP:20260421T130049
CREATED:20181003T101339Z
LAST-MODIFIED:20181105T101447Z
UID:5836-1573344000-1573430399@garnich.lu
SUMMARY:100 Joer Garnecher Musek - Concerten vu Jugendmusiken
DESCRIPTION:100 Joer Garnecher Musek: Concerten vu Jugendmuseken
URL:https://garnich.lu/event/100-joer-garnecher-musek-rallye-pedestre/
LOCATION:Veräinshaus\, Garnich\, 6 Rue des Sacrifies\, Garnich\, L-8356\, Luxembourg
ATTACH;FMTTYPE=image/jpeg:https://garnich.lu/wp-content/uploads/2018/10/Garnecher-Musek-e1538560879501.jpg
END:VEVENT
BEGIN:VEVENT
DTSTART;TZID=Europe/Luxembourg:20191110T150000
DTEND;TZID=Europe/Luxembourg:20191110T180000
DTSTAMP:20260421T130049
CREATED:20190925T094327Z
LAST-MODIFIED:20190925T094429Z
UID:7645-1573398000-1573408800@garnich.lu
SUMMARY:Kids in concert
DESCRIPTION:Concerten am Kader vum 100. Anniversaire vun der Garnecher Musek \nPlakat
URL:https://garnich.lu/event/kids-in-concert/
LOCATION:Veräinshaus\, Garnich\, 6 Rue des Sacrifies\, Garnich\, L-8356\, Luxembourg
END:VEVENT
BEGIN:VEVENT
DTSTART;TZID=Europe/Luxembourg:20191115T190000
DTEND;TZID=Europe/Luxembourg:20191115T233000
DTSTAMP:20260421T130049
CREATED:20190329T122557Z
LAST-MODIFIED:20190329T122557Z
UID:6906-1573844400-1573860600@garnich.lu
SUMMARY:Café Koler
DESCRIPTION:Fir iessen an drénken ass gesuergt
URL:https://garnich.lu/event/cafe-koler-8/
LOCATION:Duerfzenter Koler\, 38\, rue Principale\, Kahler\, 8376
ATTACH;FMTTYPE=image/jpeg:https://garnich.lu/wp-content/uploads/2019/03/Beer-e1553861926736.jpg
END:VEVENT
BEGIN:VEVENT
DTSTART;TZID=Europe/Luxembourg:20191116T190000
DTEND;TZID=Europe/Luxembourg:20191116T230000
DTSTAMP:20260421T130049
CREATED:20190925T084947Z
LAST-MODIFIED:20190925T084947Z
UID:7643-1573930800-1573945200@garnich.lu
SUMMARY:Duelemer Treff / Oppene Keller
DESCRIPTION:Gemittlech zesumme poteren\, spillen\, genéissen an engem gemittleche Kader. \nDir sidd wëllkomm.
URL:https://garnich.lu/event/duelemer-treff-oppene-keller-5/
LOCATION:Dahlem\, am Keller\, 3\, rue de l'École\, Dahlem\, 8352\, Luxembourg
ATTACH;FMTTYPE=image/jpeg:https://garnich.lu/wp-content/uploads/2019/03/Beer-e1553861926736.jpg
ORGANIZER;CN="Duelemer Leit asbl":MAILTO:duelemer.leit@garnich.lu
END:VEVENT
BEGIN:VEVENT
DTSTART;TZID=Europe/Luxembourg:20191127T190000
DTEND;TZID=Europe/Luxembourg:20191127T210000
DTSTAMP:20260421T130049
CREATED:20190111T095636Z
LAST-MODIFIED:20191104T100151Z
UID:6293-1574881200-1574888400@garnich.lu
SUMMARY:Adventskränz bastelen
DESCRIPTION:FLYER
URL:https://garnich.lu/event/adventskranz-bastelen-2/
LOCATION:Dahlem\, am Keller\, 3\, rue de l'École\, Dahlem\, 8352\, Luxembourg
ATTACH;FMTTYPE=image/jpeg:https://garnich.lu/wp-content/uploads/2018/10/Advent-e1538551282418.jpg
ORGANIZER;CN="Duelemer Leit asbl":MAILTO:duelemer.leit@garnich.lu
END:VEVENT
BEGIN:VEVENT
DTSTART;TZID=Europe/Luxembourg:20191130T200000
DTEND;TZID=Europe/Luxembourg:20191130T220000
DTSTAMP:20260421T130049
CREATED:20181004T094629Z
LAST-MODIFIED:20191018T070704Z
UID:5843-1575144000-1575151200@garnich.lu
SUMMARY:Adventsconcert "ARS Nova Lux"
DESCRIPTION:Adventsconcert zu Garnich an der Kierch mam Ensembel « ARS Nova Lux ». \nFLYER
URL:https://garnich.lu/event/concert-ars-nova-lux/
LOCATION:Eglise de Garnich\, rue Saint Hubert\, Garnich\, 8356\, Luxembourg
ATTACH;FMTTYPE=image/jpeg:https://garnich.lu/wp-content/uploads/2018/10/Adventskranz-e1538550799387.jpg
ORGANIZER;CN="Commission culturelle de Garnich":MAILTO:info@garnich.lu
END:VEVENT
END:VCALENDAR