BEGIN:VCALENDAR
VERSION:2.0
PRODID:-//Gemeng Garnich - ECPv6.15.20//NONSGML v1.0//EN
CALSCALE:GREGORIAN
METHOD:PUBLISH
X-WR-CALNAME:Gemeng Garnich
X-ORIGINAL-URL:https://garnich.lu
X-WR-CALDESC:Évènements pour Gemeng Garnich
REFRESH-INTERVAL;VALUE=DURATION:PT1H
X-Robots-Tag:noindex
X-PUBLISHED-TTL:PT1H
BEGIN:VTIMEZONE
TZID:Europe/Luxembourg
BEGIN:DAYLIGHT
TZOFFSETFROM:+0100
TZOFFSETTO:+0200
TZNAME:CEST
DTSTART:20190331T010000
END:DAYLIGHT
BEGIN:STANDARD
TZOFFSETFROM:+0200
TZOFFSETTO:+0100
TZNAME:CET
DTSTART:20191027T010000
END:STANDARD
BEGIN:DAYLIGHT
TZOFFSETFROM:+0100
TZOFFSETTO:+0200
TZNAME:CEST
DTSTART:20200329T010000
END:DAYLIGHT
BEGIN:STANDARD
TZOFFSETFROM:+0200
TZOFFSETTO:+0100
TZNAME:CET
DTSTART:20201025T010000
END:STANDARD
BEGIN:DAYLIGHT
TZOFFSETFROM:+0100
TZOFFSETTO:+0200
TZNAME:CEST
DTSTART:20210328T010000
END:DAYLIGHT
BEGIN:STANDARD
TZOFFSETFROM:+0200
TZOFFSETTO:+0100
TZNAME:CET
DTSTART:20211031T010000
END:STANDARD
END:VTIMEZONE
BEGIN:VEVENT
DTSTART;TZID=Europe/Luxembourg:20200105T150000
DTEND;TZID=Europe/Luxembourg:20200105T180000
DTSTAMP:20260421T091835
CREATED:20191209T093458Z
LAST-MODIFIED:20191209T093503Z
UID:8062-1578236400-1578247200@garnich.lu
SUMMARY:Neijoerspatt vun den Duelemer Leit
DESCRIPTION:
URL:https://garnich.lu/event/neijoerspatt-vun-den-duelemer-leit/
LOCATION:Dahlem\, am Keller\, 3\, rue de l'École\, Dahlem\, 8352\, Luxembourg
ATTACH;FMTTYPE=image/jpeg:https://garnich.lu/wp-content/uploads/2019/12/Affiche-Duelemer-Leit.jpg
ORGANIZER;CN="Duelemer Leit asbl":MAILTO:duelemer.leit@garnich.lu
END:VEVENT
BEGIN:VEVENT
DTSTART;VALUE=DATE:20200111
DTEND;VALUE=DATE:20200112
DTSTAMP:20260421T091835
CREATED:20200106T131438Z
LAST-MODIFIED:20200106T131532Z
UID:8190-1578700800-1578787199@garnich.lu
SUMMARY:Chrëschtbeemercher asammelen
DESCRIPTION:
URL:https://garnich.lu/event/chreschtbeemercher-asammelen/
LOCATION:Commune de Garnich
ATTACH;FMTTYPE=image/jpeg:https://garnich.lu/wp-content/uploads/2020/01/RAMMASSAGE-DES-SAPINS-DE-NOËL.jpg
ORGANIZER;CN="Opel Hecktriebler L%C3%ABtzebuerg asbl":MAILTO:arendguy@hotmail.de
END:VEVENT
BEGIN:VEVENT
DTSTART;TZID=Europe/Luxembourg:20200114T190000
DTEND;TZID=Europe/Luxembourg:20200114T210000
DTSTAMP:20260421T091835
CREATED:20191209T101314Z
LAST-MODIFIED:20191220T113354Z
UID:8068-1579028400-1579035600@garnich.lu
SUMMARY:Workshop: "Engagéier dech fir deng Uertschaft"
DESCRIPTION:Stäerkung vum Duerfliewen duerch d’Grënnung vun engem Biergerveräin an der Uertschaft Garnich \nFLYER
URL:https://garnich.lu/event/workshop-engageier-dech-fir-deng-uertschaft/
LOCATION:Veräinshaus\, Garnich\, 6 Rue des Sacrifies\, Garnich\, L-8356\, Luxembourg
ATTACH;FMTTYPE=image/jpeg:https://garnich.lu/wp-content/uploads/2018/12/Meeting-e1547201147191.jpg
ORGANIZER;CN="Administration communale Garnich":MAILTO:garnich@pt.lu
END:VEVENT
BEGIN:VEVENT
DTSTART;VALUE=DATE:20200119
DTEND;VALUE=DATE:20200120
DTSTAMP:20260421T091835
CREATED:20200106T131030Z
LAST-MODIFIED:20200106T131030Z
UID:8186-1579392000-1579478399@garnich.lu
SUMMARY:Marche populaire
DESCRIPTION:Départ possible entre 8h00 et 14h00
URL:https://garnich.lu/event/marche-populaire-2/
LOCATION:Veräinshaus\, Garnich\, 6 Rue des Sacrifies\, Garnich\, L-8356\, Luxembourg
ATTACH;FMTTYPE=image/jpeg:https://garnich.lu/wp-content/uploads/2020/01/Affiche-Wandertramps-Marche-Populaire-19.1.2020.jpg
END:VEVENT
BEGIN:VEVENT
DTSTART;TZID=Europe/Luxembourg:20200124T190000
DTEND;TZID=Europe/Luxembourg:20200124T210000
DTSTAMP:20260421T091835
CREATED:20200103T102301Z
LAST-MODIFIED:20200103T102301Z
UID:8177-1579892400-1579899600@garnich.lu
SUMMARY:Generalversammlung "CIS Kahler" & "Amicale Koler Pompjeeën"
DESCRIPTION:
URL:https://garnich.lu/event/generalversammlung-cis-kahler-amicale-koler-pompjeeen/
LOCATION:Centre d’intervention et de secours Garnich\, 7 rue des Trois Cantons\, Garnich\, 8354\, Luxembourg
ATTACH;FMTTYPE=image/jpeg:https://garnich.lu/wp-content/uploads/2018/12/Meeting-e1547201147191.jpg
END:VEVENT
BEGIN:VEVENT
DTSTART;TZID=Europe/Luxembourg:20200131T190000
DTEND;TZID=Europe/Luxembourg:20200131T233000
DTSTAMP:20260421T091835
CREATED:20200106T131205Z
LAST-MODIFIED:20200106T131205Z
UID:8188-1580497200-1580513400@garnich.lu
SUMMARY:Café Koler
DESCRIPTION:
URL:https://garnich.lu/event/cafe-koler-10/
LOCATION:Duerfzenter Koler\, 38\, rue Principale\, Kahler\, 8376
ATTACH;FMTTYPE=image/jpeg:https://garnich.lu/wp-content/uploads/2019/03/Beer-e1553861926736.jpg
END:VEVENT
END:VCALENDAR