BEGIN:VCALENDAR
VERSION:2.0
PRODID:-//Gemeng Garnich - ECPv6.15.20//NONSGML v1.0//EN
CALSCALE:GREGORIAN
METHOD:PUBLISH
X-WR-CALNAME:Gemeng Garnich
X-ORIGINAL-URL:https://garnich.lu
X-WR-CALDESC:Évènements pour Gemeng Garnich
REFRESH-INTERVAL;VALUE=DURATION:PT1H
X-Robots-Tag:noindex
X-PUBLISHED-TTL:PT1H
BEGIN:VTIMEZONE
TZID:Europe/Luxembourg
BEGIN:DAYLIGHT
TZOFFSETFROM:+0100
TZOFFSETTO:+0200
TZNAME:CEST
DTSTART:20190331T010000
END:DAYLIGHT
BEGIN:STANDARD
TZOFFSETFROM:+0200
TZOFFSETTO:+0100
TZNAME:CET
DTSTART:20191027T010000
END:STANDARD
BEGIN:DAYLIGHT
TZOFFSETFROM:+0100
TZOFFSETTO:+0200
TZNAME:CEST
DTSTART:20200329T010000
END:DAYLIGHT
BEGIN:STANDARD
TZOFFSETFROM:+0200
TZOFFSETTO:+0100
TZNAME:CET
DTSTART:20201025T010000
END:STANDARD
BEGIN:DAYLIGHT
TZOFFSETFROM:+0100
TZOFFSETTO:+0200
TZNAME:CEST
DTSTART:20210328T010000
END:DAYLIGHT
BEGIN:STANDARD
TZOFFSETFROM:+0200
TZOFFSETTO:+0100
TZNAME:CET
DTSTART:20211031T010000
END:STANDARD
END:VTIMEZONE
BEGIN:VEVENT
DTSTART;VALUE=DATE:20200301
DTEND;VALUE=DATE:20200302
DTSTAMP:20260421T052004
CREATED:20200106T133121Z
LAST-MODIFIED:20200106T133121Z
UID:8214-1583020800-1583107199@garnich.lu
SUMMARY:Buergbrennen
DESCRIPTION:
URL:https://garnich.lu/event/buergbrennen-2/
LOCATION:Botterkräiz\, 7 rue des Trois Cantons\, Garnich\, 8354\, Luxembourg
ATTACH;FMTTYPE=image/jpeg:https://garnich.lu/wp-content/uploads/2020/01/Buergbrennen2020.jpg
ORGANIZER;CN="Opel Hecktriebler L%C3%ABtzebuerg asbl":MAILTO:arendguy@hotmail.de
END:VEVENT
BEGIN:VEVENT
DTSTART;TZID=Europe/Luxembourg:20200301T140000
DTEND;TZID=Europe/Luxembourg:20200301T180000
DTSTAMP:20260421T052004
CREATED:20200106T133240Z
LAST-MODIFIED:20200204T112155Z
UID:8216-1583071200-1583085600@garnich.lu
SUMMARY:Spillnomëtten
DESCRIPTION:FLYER
URL:https://garnich.lu/event/spillnometten/
LOCATION:Dahlem\, am Keller\, 3\, rue de l'École\, Dahlem\, 8352\, Luxembourg
ATTACH;FMTTYPE=image/jpeg:https://garnich.lu/wp-content/uploads/2018/12/Computer-games-e1547201154781.jpg
ORGANIZER;CN="Duelemer Leit asbl":MAILTO:duelemer.leit@garnich.lu
END:VEVENT
BEGIN:VEVENT
DTSTART;VALUE=DATE:20200305
DTEND;VALUE=DATE:20200306
DTSTAMP:20260421T052004
CREATED:20200106T133401Z
LAST-MODIFIED:20200106T133547Z
UID:8218-1583366400-1583452799@garnich.lu
SUMMARY:Generalversammlung Entente des sociétés
DESCRIPTION:
URL:https://garnich.lu/event/generalversammlung-entente-des-societes-2/
LOCATION:Gemeng Garnich\, 15 rue de l'École\, Garnich\, 8353
ATTACH;FMTTYPE=image/jpeg:https://garnich.lu/wp-content/uploads/2018/12/Meeting-e1547201147191.jpg
END:VEVENT
BEGIN:VEVENT
DTSTART;VALUE=DATE:20200307
DTEND;VALUE=DATE:20200308
DTSTAMP:20260421T052004
CREATED:20200106T133518Z
LAST-MODIFIED:20200106T133518Z
UID:8221-1583539200-1583625599@garnich.lu
SUMMARY:Generalversammlung "Cannamedica"
DESCRIPTION:
URL:https://garnich.lu/event/generalversammlung-cannamedica/
LOCATION:Dahlem\, am Keller\, 3\, rue de l'École\, Dahlem\, 8352\, Luxembourg
ATTACH;FMTTYPE=image/jpeg:https://garnich.lu/wp-content/uploads/2018/12/Meeting-e1547201147191.jpg
END:VEVENT
BEGIN:VEVENT
DTSTART;TZID=Europe/Luxembourg:20200312T193000
DTEND;TZID=Europe/Luxembourg:20200312T210000
DTSTAMP:20260421T052004
CREATED:20200227T082014Z
LAST-MODIFIED:20200227T082014Z
UID:8430-1584041400-1584046800@garnich.lu
SUMMARY:Liesung "Anekdote vu Moskau" mam Line Olinger
DESCRIPTION:INFO
URL:https://garnich.lu/event/liesung-anekdote-vu-moskau-mam-line-olinger/
LOCATION:Dahlem\, am Keller\, 3\, rue de l'École\, Dahlem\, 8352\, Luxembourg
ATTACH;FMTTYPE=image/jpeg:https://garnich.lu/wp-content/uploads/2018/09/book-e1538042735536.jpg
ORGANIZER;CN="Commission culturelle de Garnich":MAILTO:info@garnich.lu
END:VEVENT
BEGIN:VEVENT
DTSTART;VALUE=DATE:20200314
DTEND;VALUE=DATE:20200315
DTSTAMP:20260421T052004
CREATED:20200106T133709Z
LAST-MODIFIED:20200316T090954Z
UID:8224-1584144000-1584230399@garnich.lu
SUMMARY:ANNULÉ: Schülerauditioun
DESCRIPTION:
URL:https://garnich.lu/event/schulerauditioun/
LOCATION:Veräinshaus\, Garnich\, 6 Rue des Sacrifies\, Garnich\, L-8356\, Luxembourg
ATTACH;FMTTYPE=image/jpeg:https://garnich.lu/wp-content/uploads/2018/10/Music-e1538484750667.jpg
END:VEVENT
BEGIN:VEVENT
DTSTART;VALUE=DATE:20200315
DTEND;VALUE=DATE:20200316
DTSTAMP:20260421T052004
CREATED:20200106T134113Z
LAST-MODIFIED:20200316T091017Z
UID:8227-1584230400-1584316799@garnich.lu
SUMMARY:ANNULÉ: 25 Joer Alfa Romeo Club Lëtzebuerg
DESCRIPTION:
URL:https://garnich.lu/event/25-joer-alfa-romeo-club-letzebuerg/
LOCATION:Duerfzenter Koler\, 38\, rue Principale\, Kahler\, 8376
ATTACH;FMTTYPE=image/jpeg:https://garnich.lu/wp-content/uploads/2020/01/Car-e1578318009780.jpg
END:VEVENT
BEGIN:VEVENT
DTSTART;VALUE=DATE:20200317
DTEND;VALUE=DATE:20200318
DTSTAMP:20260421T052004
CREATED:20190827T120915Z
LAST-MODIFIED:20190827T120915Z
UID:7499-1584403200-1584489599@garnich.lu
SUMMARY:Grand ramassage de vieux vêtements
DESCRIPTION:Organisé par l’association « Aide aux enfants handicapés du Grand-Duché ».
URL:https://garnich.lu/event/grand-ramassage-de-vieux-vetements/
LOCATION:Commune de Garnich
ORGANIZER;CN="Aide aux enfants handicap%C3%A9s du Grand-Duch%C3%A9":MAILTO:info@aehgd.lu
END:VEVENT
BEGIN:VEVENT
DTSTART;VALUE=DATE:20200317
DTEND;VALUE=DATE:20200318
DTSTAMP:20260421T052004
CREATED:20200106T140000Z
LAST-MODIFIED:20200316T091043Z
UID:8230-1584403200-1584489599@garnich.lu
SUMMARY:ANNULÉ: Generalversammlung "Koler Bierger asbl"
DESCRIPTION:
URL:https://garnich.lu/event/generalversammlung-koler-bierger-asbl-2/
LOCATION:Duerfzenter Koler\, 38\, rue Principale\, Kahler\, 8376
ATTACH;FMTTYPE=image/jpeg:https://garnich.lu/wp-content/uploads/2018/12/Meeting-e1547201147191.jpg
END:VEVENT
BEGIN:VEVENT
DTSTART;VALUE=DATE:20200321
DTEND;VALUE=DATE:20200322
DTSTAMP:20260421T052004
CREATED:20200106T140211Z
LAST-MODIFIED:20200316T091106Z
UID:8232-1584748800-1584835199@garnich.lu
SUMMARY:ANNULÉ: Grouss Botz
DESCRIPTION:
URL:https://garnich.lu/event/grouss-botz/
LOCATION:Hivange\, Al Spillschoul\, Hivange\, Luxembourg
END:VEVENT
BEGIN:VEVENT
DTSTART;TZID=Europe/Luxembourg:20200321T193000
DTEND;TZID=Europe/Luxembourg:20200321T220000
DTSTAMP:20260421T052004
CREATED:20200106T140323Z
LAST-MODIFIED:20200316T091127Z
UID:8235-1584819000-1584828000@garnich.lu
SUMMARY:ANNULÉ: Galaconcert Garnecher Musek
DESCRIPTION:INFO
URL:https://garnich.lu/event/galaconcert-garnecher-musek/
LOCATION:Veräinshaus\, Garnich\, 6 Rue des Sacrifies\, Garnich\, L-8356\, Luxembourg
END:VEVENT
BEGIN:VEVENT
DTSTART;TZID=Europe/Luxembourg:20200327T190000
DTEND;TZID=Europe/Luxembourg:20200327T233000
DTSTAMP:20260421T052004
CREATED:20200106T140406Z
LAST-MODIFIED:20200316T091158Z
UID:8237-1585335600-1585351800@garnich.lu
SUMMARY:ANNULÉ: Café Koler
DESCRIPTION:
URL:https://garnich.lu/event/cafe-koler-12/
LOCATION:Duerfzenter Koler\, 38\, rue Principale\, Kahler\, 8376
ATTACH;FMTTYPE=image/jpeg:https://garnich.lu/wp-content/uploads/2019/03/Beer-e1553861926736.jpg
END:VEVENT
BEGIN:VEVENT
DTSTART;VALUE=DATE:20200328
DTEND;VALUE=DATE:20200329
DTSTAMP:20260421T052004
CREATED:20200106T140709Z
LAST-MODIFIED:20200316T091219Z
UID:8241-1585353600-1585439999@garnich.lu
SUMMARY:ANNULÉ: Grouss Botz
DESCRIPTION:
URL:https://garnich.lu/event/grouss-botz-2/
LOCATION:Kahler
END:VEVENT
BEGIN:VEVENT
DTSTART;TZID=Europe/Luxembourg:20200328T190000
DTEND;TZID=Europe/Luxembourg:20200328T210000
DTSTAMP:20260421T052004
CREATED:20200106T140456Z
LAST-MODIFIED:20200316T091240Z
UID:8239-1585422000-1585429200@garnich.lu
SUMMARY:ANNULÉ: Generalversammlung "Duelemer Leit asbl"
DESCRIPTION:FLYER
URL:https://garnich.lu/event/generalversammlung-duelemer-leit-asbl-2/
LOCATION:Dahlem\, am Keller\, 3\, rue de l'École\, Dahlem\, 8352\, Luxembourg
ATTACH;FMTTYPE=image/jpeg:https://garnich.lu/wp-content/uploads/2018/12/Meeting-e1547201147191.jpg
ORGANIZER;CN="Duelemer Leit asbl":MAILTO:duelemer.leit@garnich.lu
END:VEVENT
BEGIN:VEVENT
DTSTART;TZID=Europe/Luxembourg:20200329T103000
DTEND;TZID=Europe/Luxembourg:20200329T123000
DTSTAMP:20260421T052004
CREATED:20191008T083755Z
LAST-MODIFIED:20200316T091303Z
UID:7712-1585477800-1585485000@garnich.lu
SUMMARY:ANNULÉ: Stommfilm "General" vum Buster Keaton mam Maurice Clement als Live-Pianist
DESCRIPTION:Stommfilm am Kinoler\, dat mam Pianist Maurice Clement \nGratis Entrée \nFLYER
URL:https://garnich.lu/event/stommfilm-mam-maurice-clement-als-organist/
LOCATION:Duerfzenter Koler\, 38\, rue Principale\, Kahler\, 8376
ATTACH;FMTTYPE=image/jpeg:https://garnich.lu/wp-content/uploads/2020/02/The-General-Buster-Keaton-2-e1581948877295.jpg
END:VEVENT
END:VCALENDAR