BEGIN:VCALENDAR
VERSION:2.0
PRODID:-//Gemeng Garnich - ECPv6.15.20//NONSGML v1.0//EN
CALSCALE:GREGORIAN
METHOD:PUBLISH
X-WR-CALNAME:Gemeng Garnich
X-ORIGINAL-URL:https://garnich.lu
X-WR-CALDESC:Évènements pour Gemeng Garnich
REFRESH-INTERVAL;VALUE=DURATION:PT1H
X-Robots-Tag:noindex
X-PUBLISHED-TTL:PT1H
BEGIN:VTIMEZONE
TZID:Europe/Luxembourg
BEGIN:DAYLIGHT
TZOFFSETFROM:+0100
TZOFFSETTO:+0200
TZNAME:CEST
DTSTART:20190331T010000
END:DAYLIGHT
BEGIN:STANDARD
TZOFFSETFROM:+0200
TZOFFSETTO:+0100
TZNAME:CET
DTSTART:20191027T010000
END:STANDARD
BEGIN:DAYLIGHT
TZOFFSETFROM:+0100
TZOFFSETTO:+0200
TZNAME:CEST
DTSTART:20200329T010000
END:DAYLIGHT
BEGIN:STANDARD
TZOFFSETFROM:+0200
TZOFFSETTO:+0100
TZNAME:CET
DTSTART:20201025T010000
END:STANDARD
BEGIN:DAYLIGHT
TZOFFSETFROM:+0100
TZOFFSETTO:+0200
TZNAME:CEST
DTSTART:20210328T010000
END:DAYLIGHT
BEGIN:STANDARD
TZOFFSETFROM:+0200
TZOFFSETTO:+0100
TZNAME:CET
DTSTART:20211031T010000
END:STANDARD
END:VTIMEZONE
BEGIN:VEVENT
DTSTART;VALUE=DATE:20200409
DTEND;VALUE=DATE:20200410
DTSTAMP:20260421T033005
CREATED:20200106T141043Z
LAST-MODIFIED:20200320T090356Z
UID:8243-1586390400-1586476799@garnich.lu
SUMMARY:ANNULÉ: Ouschtereeër fierwen mat de Kanner
DESCRIPTION:FLYER
URL:https://garnich.lu/event/ouschtereeer-fierwen-mat-de-kanner/
LOCATION:Dahlem\, am Keller\, 3\, rue de l'École\, Dahlem\, 8352\, Luxembourg
ATTACH;FMTTYPE=image/jpeg:https://garnich.lu/wp-content/uploads/2018/12/Easter-egg-e1547201139331.jpg
ORGANIZER;CN="Duelemer Leit asbl":MAILTO:duelemer.leit@garnich.lu
END:VEVENT
BEGIN:VEVENT
DTSTART;VALUE=DATE:20200409
DTEND;VALUE=DATE:20200410
DTSTAMP:20260421T033005
CREATED:20200106T141126Z
LAST-MODIFIED:20200406T073410Z
UID:8245-1586390400-1586476799@garnich.lu
SUMMARY:ANNULÉ: Ouschtereeëraktioun
DESCRIPTION:
URL:https://garnich.lu/event/ouschtereeeraktioun/
LOCATION:Gemeng Garnich\, 15 rue de l'École\, Garnich\, 8353
ATTACH;FMTTYPE=image/jpeg:https://garnich.lu/wp-content/uploads/2018/12/Easter-egg-e1547201139331.jpg
END:VEVENT
BEGIN:VEVENT
DTSTART;TZID=Europe/Luxembourg:20200417T190000
DTEND;TZID=Europe/Luxembourg:20200417T233000
DTSTAMP:20260421T033005
CREATED:20200106T141205Z
LAST-MODIFIED:20200508T074907Z
UID:8247-1587150000-1587166200@garnich.lu
SUMMARY:ANNULÉ: Café Koler
DESCRIPTION:
URL:https://garnich.lu/event/cafe-koler-13/
LOCATION:Duerfzenter Koler\, 38\, rue Principale\, Kahler\, 8376
ATTACH;FMTTYPE=image/jpeg:https://garnich.lu/wp-content/uploads/2019/03/Beer-e1553861926736.jpg
END:VEVENT
BEGIN:VEVENT
DTSTART;VALUE=DATE:20200426
DTEND;VALUE=DATE:20200427
DTSTAMP:20260421T033005
CREATED:20200106T141456Z
LAST-MODIFIED:20200320T090329Z
UID:8250-1587859200-1587945599@garnich.lu
SUMMARY:ANNULÉ: Danznomëtten fir jonk an al
DESCRIPTION:
URL:https://garnich.lu/event/danznometten-fir-jonk-an-al/
LOCATION:Veräinshaus\, Garnich\, 6 Rue des Sacrifies\, Garnich\, L-8356\, Luxembourg
ATTACH;FMTTYPE=image/jpeg:https://garnich.lu/wp-content/uploads/2020/01/Dance-e1578320048169.jpg
END:VEVENT
END:VCALENDAR