BEGIN:VCALENDAR
VERSION:2.0
PRODID:-//Gemeng Garnich - ECPv6.15.20//NONSGML v1.0//EN
CALSCALE:GREGORIAN
METHOD:PUBLISH
X-WR-CALNAME:Gemeng Garnich
X-ORIGINAL-URL:https://garnich.lu
X-WR-CALDESC:Évènements pour Gemeng Garnich
REFRESH-INTERVAL;VALUE=DURATION:PT1H
X-Robots-Tag:noindex
X-PUBLISHED-TTL:PT1H
BEGIN:VTIMEZONE
TZID:Europe/Luxembourg
BEGIN:DAYLIGHT
TZOFFSETFROM:+0100
TZOFFSETTO:+0200
TZNAME:CEST
DTSTART:20190331T010000
END:DAYLIGHT
BEGIN:STANDARD
TZOFFSETFROM:+0200
TZOFFSETTO:+0100
TZNAME:CET
DTSTART:20191027T010000
END:STANDARD
BEGIN:DAYLIGHT
TZOFFSETFROM:+0100
TZOFFSETTO:+0200
TZNAME:CEST
DTSTART:20200329T010000
END:DAYLIGHT
BEGIN:STANDARD
TZOFFSETFROM:+0200
TZOFFSETTO:+0100
TZNAME:CET
DTSTART:20201025T010000
END:STANDARD
BEGIN:DAYLIGHT
TZOFFSETFROM:+0100
TZOFFSETTO:+0200
TZNAME:CEST
DTSTART:20210328T010000
END:DAYLIGHT
BEGIN:STANDARD
TZOFFSETFROM:+0200
TZOFFSETTO:+0100
TZNAME:CET
DTSTART:20211031T010000
END:STANDARD
END:VTIMEZONE
BEGIN:VEVENT
DTSTART;VALUE=DATE:20200703
DTEND;VALUE=DATE:20200704
DTSTAMP:20260420T222002
CREATED:20200106T145459Z
LAST-MODIFIED:20200420T094518Z
UID:8269-1593734400-1593820799@garnich.lu
SUMMARY:ANNULÉ: Hamefest
DESCRIPTION:
URL:https://garnich.lu/event/hamefest/
LOCATION:Botterkräiz Garnich
END:VEVENT
BEGIN:VEVENT
DTSTART;VALUE=DATE:20200705
DTEND;VALUE=DATE:20200706
DTSTAMP:20260420T222002
CREATED:20200106T145551Z
LAST-MODIFIED:20200420T094500Z
UID:8272-1593907200-1593993599@garnich.lu
SUMMARY:ANNULÉ: Hamefest
DESCRIPTION:
URL:https://garnich.lu/event/hamefest-2/
LOCATION:Botterkräiz Garnich
END:VEVENT
BEGIN:VEVENT
DTSTART;VALUE=DATE:20200710
DTEND;VALUE=DATE:20200711
DTSTAMP:20260420T222002
CREATED:20200107T113301Z
LAST-MODIFIED:20200622T085654Z
UID:8278-1594339200-1594425599@garnich.lu
SUMMARY:ANNULÉ: Béierfest
DESCRIPTION:
URL:https://garnich.lu/event/beierfest-2/
LOCATION:Kahler
END:VEVENT
BEGIN:VEVENT
DTSTART;VALUE=DATE:20200711
DTEND;VALUE=DATE:20200712
DTSTAMP:20260420T222002
CREATED:20200107T113434Z
LAST-MODIFIED:20200622T085628Z
UID:8282-1594425600-1594511999@garnich.lu
SUMMARY:ANNULÉ: Ausfluch Duelemer Leit
DESCRIPTION:
URL:https://garnich.lu/event/ausfluch-duelemer-leit/
ATTACH;FMTTYPE=image/jpeg:https://garnich.lu/wp-content/uploads/2018/12/Trip-e1547201130836.jpg
ORGANIZER;CN="Duelemer Leit asbl":MAILTO:duelemer.leit@garnich.lu
END:VEVENT
BEGIN:VEVENT
DTSTART;VALUE=DATE:20200712
DTEND;VALUE=DATE:20200713
DTSTAMP:20260420T222002
CREATED:20200107T113340Z
LAST-MODIFIED:20200622T085605Z
UID:8280-1594512000-1594598399@garnich.lu
SUMMARY:ANNULÉ: Duerffest
DESCRIPTION:
URL:https://garnich.lu/event/duerffest/
LOCATION:Kahler
END:VEVENT
BEGIN:VEVENT
DTSTART;TZID=Europe/Luxembourg:20200731T190000
DTEND;TZID=Europe/Luxembourg:20200731T233000
DTSTAMP:20260420T222002
CREATED:20200107T113527Z
LAST-MODIFIED:20200107T113527Z
UID:8284-1596222000-1596238200@garnich.lu
SUMMARY:Café Koler
DESCRIPTION:
URL:https://garnich.lu/event/cafe-koler-16/
LOCATION:Duerfzenter Koler\, 38\, rue Principale\, Kahler\, 8376
ATTACH;FMTTYPE=image/jpeg:https://garnich.lu/wp-content/uploads/2019/03/Beer-e1553861926736.jpg
END:VEVENT
END:VCALENDAR