BEGIN:VCALENDAR
VERSION:2.0
PRODID:-//Gemeng Garnich - ECPv6.15.20//NONSGML v1.0//EN
CALSCALE:GREGORIAN
METHOD:PUBLISH
X-WR-CALNAME:Gemeng Garnich
X-ORIGINAL-URL:https://garnich.lu
X-WR-CALDESC:Évènements pour Gemeng Garnich
REFRESH-INTERVAL;VALUE=DURATION:PT1H
X-Robots-Tag:noindex
X-PUBLISHED-TTL:PT1H
BEGIN:VTIMEZONE
TZID:Europe/Luxembourg
BEGIN:DAYLIGHT
TZOFFSETFROM:+0100
TZOFFSETTO:+0200
TZNAME:CEST
DTSTART:20200329T010000
END:DAYLIGHT
BEGIN:STANDARD
TZOFFSETFROM:+0200
TZOFFSETTO:+0100
TZNAME:CET
DTSTART:20201025T010000
END:STANDARD
BEGIN:DAYLIGHT
TZOFFSETFROM:+0100
TZOFFSETTO:+0200
TZNAME:CEST
DTSTART:20210328T010000
END:DAYLIGHT
BEGIN:STANDARD
TZOFFSETFROM:+0200
TZOFFSETTO:+0100
TZNAME:CET
DTSTART:20211031T010000
END:STANDARD
BEGIN:DAYLIGHT
TZOFFSETFROM:+0100
TZOFFSETTO:+0200
TZNAME:CEST
DTSTART:20220327T010000
END:DAYLIGHT
BEGIN:STANDARD
TZOFFSETFROM:+0200
TZOFFSETTO:+0100
TZNAME:CET
DTSTART:20221030T010000
END:STANDARD
END:VTIMEZONE
BEGIN:VEVENT
DTSTART;TZID=Europe/Luxembourg:20210103T150000
DTEND;TZID=Europe/Luxembourg:20210103T180000
DTSTAMP:20260420T115643
CREATED:20201023T104452Z
LAST-MODIFIED:20201222T090726Z
UID:9046-1609686000-1609696800@garnich.lu
SUMMARY:ANNULÉ: Neijoerspatt
DESCRIPTION:
URL:https://garnich.lu/event/neijoerspatt-2/
LOCATION:Dahlem\, am Keller\, 3\, rue de l'École\, Dahlem\, 8352\, Luxembourg
ATTACH;FMTTYPE=image/png:https://garnich.lu/wp-content/uploads/2020/10/Duelemer-Leit-asbl-Logo-e1603449510494.png
ORGANIZER;CN="Duelemer Leit asbl":MAILTO:duelemer.leit@garnich.lu
END:VEVENT
BEGIN:VEVENT
DTSTART;VALUE=DATE:20210109
DTEND;VALUE=DATE:20210110
DTSTAMP:20260420T115643
CREATED:20200914T095721Z
LAST-MODIFIED:20200914T095721Z
UID:8887-1610150400-1610236799@garnich.lu
SUMMARY:Chrëschtbeemerscher asammelen
DESCRIPTION:
URL:https://garnich.lu/event/chreschtbeemerscher-asammelen/
LOCATION:Commune de Garnich
ATTACH;FMTTYPE=image/jpeg:https://garnich.lu/wp-content/uploads/2019/01/Christmas-tree-e1547201104913.jpg
ORGANIZER;CN="Opel Hecktriebler L%C3%ABtzebuerg asbl":MAILTO:arendguy@hotmail.de
END:VEVENT
BEGIN:VEVENT
DTSTART;TZID=Europe/Luxembourg:20210116T190000
DTEND;TZID=Europe/Luxembourg:20210116T230000
DTSTAMP:20260420T115643
CREATED:20201023T104029Z
LAST-MODIFIED:20210107T094730Z
UID:9036-1610823600-1610838000@garnich.lu
SUMMARY:ANNULÉ: Oppene Keller
DESCRIPTION:
URL:https://garnich.lu/event/oppene-keller-4/
LOCATION:Dahlem\, am Keller\, 3\, rue de l'École\, Dahlem\, 8352\, Luxembourg
ATTACH;FMTTYPE=image/png:https://garnich.lu/wp-content/uploads/2020/10/Duelemer-Leit-asbl-Logo-e1603449510494.png
ORGANIZER;CN="Duelemer Leit asbl":MAILTO:duelemer.leit@garnich.lu
END:VEVENT
BEGIN:VEVENT
DTSTART;VALUE=DATE:20210117
DTEND;VALUE=DATE:20210118
DTSTAMP:20260420T115643
CREATED:20201116T155002Z
LAST-MODIFIED:20201116T155002Z
UID:9098-1610841600-1610927999@garnich.lu
SUMMARY:Marche populaire
DESCRIPTION:
URL:https://garnich.lu/event/marche-populaire-3/
LOCATION:Veräinshaus\, Garnich\, 6 Rue des Sacrifies\, Garnich\, L-8356\, Luxembourg
END:VEVENT
BEGIN:VEVENT
DTSTART;VALUE=DATE:20210121
DTEND;VALUE=DATE:20210124
DTSTAMP:20260420T115643
CREATED:20201118T085713Z
LAST-MODIFIED:20210107T094703Z
UID:9159-1611187200-1611446399@garnich.lu
SUMMARY:ANNULÉ: Theater am Duerfzenter zu Koler
DESCRIPTION:INFO
URL:https://garnich.lu/event/theater-am-duerfzenter-zu-koler-2/
LOCATION:Duerfzenter Koler\, 38\, rue Principale\, Kahler\, 8376
ATTACH;FMTTYPE=image/jpeg:https://garnich.lu/wp-content/uploads/2018/10/Theatre-e1538559855143.jpg
END:VEVENT
BEGIN:VEVENT
DTSTART;TZID=Europe/Luxembourg:20210129T190000
DTEND;TZID=Europe/Luxembourg:20210129T233000
DTSTAMP:20260420T115643
CREATED:20201117T142504Z
LAST-MODIFIED:20210107T094809Z
UID:9136-1611946800-1611963000@garnich.lu
SUMMARY:ANNULÉ: Café Koler
DESCRIPTION:
URL:https://garnich.lu/event/cafe-koler-21/
LOCATION:Duerfzenter Koler\, 38\, rue Principale\, Kahler\, 8376
ATTACH;FMTTYPE=image/jpeg:https://garnich.lu/wp-content/uploads/2019/01/Beer-e1547201059352.jpg
END:VEVENT
BEGIN:VEVENT
DTSTART;VALUE=DATE:20210131
DTEND;VALUE=DATE:20210201
DTSTAMP:20260420T115643
CREATED:20201116T155155Z
LAST-MODIFIED:20210111T095544Z
UID:9100-1612051200-1612137599@garnich.lu
SUMMARY:ANNULÉ: Generalversammlung "Garnecher Musek"
DESCRIPTION:
URL:https://garnich.lu/event/generalversammlung-garnecher-musek-3/
LOCATION:Veräinshaus\, Garnich\, 6 Rue des Sacrifies\, Garnich\, L-8356\, Luxembourg
ATTACH;FMTTYPE=image/jpeg:https://garnich.lu/wp-content/uploads/2018/12/Meeting-e1547201147191.jpg
END:VEVENT
END:VCALENDAR