BEGIN:VCALENDAR
VERSION:2.0
PRODID:-//Gemeng Garnich - ECPv6.15.20//NONSGML v1.0//EN
CALSCALE:GREGORIAN
METHOD:PUBLISH
X-WR-CALNAME:Gemeng Garnich
X-ORIGINAL-URL:https://garnich.lu
X-WR-CALDESC:Évènements pour Gemeng Garnich
REFRESH-INTERVAL;VALUE=DURATION:PT1H
X-Robots-Tag:noindex
X-PUBLISHED-TTL:PT1H
BEGIN:VTIMEZONE
TZID:Europe/Luxembourg
BEGIN:DAYLIGHT
TZOFFSETFROM:+0100
TZOFFSETTO:+0200
TZNAME:CEST
DTSTART:20200329T010000
END:DAYLIGHT
BEGIN:STANDARD
TZOFFSETFROM:+0200
TZOFFSETTO:+0100
TZNAME:CET
DTSTART:20201025T010000
END:STANDARD
BEGIN:DAYLIGHT
TZOFFSETFROM:+0100
TZOFFSETTO:+0200
TZNAME:CEST
DTSTART:20210328T010000
END:DAYLIGHT
BEGIN:STANDARD
TZOFFSETFROM:+0200
TZOFFSETTO:+0100
TZNAME:CET
DTSTART:20211031T010000
END:STANDARD
BEGIN:DAYLIGHT
TZOFFSETFROM:+0100
TZOFFSETTO:+0200
TZNAME:CEST
DTSTART:20220327T010000
END:DAYLIGHT
BEGIN:STANDARD
TZOFFSETFROM:+0200
TZOFFSETTO:+0100
TZNAME:CET
DTSTART:20221030T010000
END:STANDARD
END:VTIMEZONE
BEGIN:VEVENT
DTSTART;VALUE=DATE:20210206
DTEND;VALUE=DATE:20210207
DTSTAMP:20260420T101700
CREATED:20201116T155319Z
LAST-MODIFIED:20201222T104228Z
UID:9102-1612569600-1612655999@garnich.lu
SUMMARY:ANNULÉ: Galaconcert Garnecher Musek
DESCRIPTION:
URL:https://garnich.lu/event/galaconcert-garnecher-musek-2/
LOCATION:Veräinshaus\, Garnich\, 6 Rue des Sacrifies\, Garnich\, L-8356\, Luxembourg
ATTACH;FMTTYPE=image/jpeg:https://garnich.lu/wp-content/uploads/2018/10/Music-e1538484750667.jpg
END:VEVENT
BEGIN:VEVENT
DTSTART;VALUE=DATE:20210213
DTEND;VALUE=DATE:20210214
DTSTAMP:20260420T101700
CREATED:20210201T083657Z
LAST-MODIFIED:20210201T083657Z
UID:9318-1613174400-1613260799@garnich.lu
SUMMARY:FUESKICHELCHER gebak vun der Garnecher Musek!
DESCRIPTION:INFO
URL:https://garnich.lu/event/fueskichelcher-gebak-vun-der-garnecher-musek/
LOCATION:Veräinshaus\, Garnich\, 6 Rue des Sacrifies\, Garnich\, L-8356\, Luxembourg
ATTACH;FMTTYPE=image/jpeg:https://garnich.lu/wp-content/uploads/2021/02/Eggs-e1612168127590.jpg
END:VEVENT
BEGIN:VEVENT
DTSTART;VALUE=DATE:20210220
DTEND;VALUE=DATE:20210221
DTSTAMP:20260420T101700
CREATED:20201116T155727Z
LAST-MODIFIED:20210209T093504Z
UID:9108-1613779200-1613865599@garnich.lu
SUMMARY:Buergbrennen
DESCRIPTION:INFO
URL:https://garnich.lu/event/buergbrennen-3/
LOCATION:Duerfzenter Koler\, 38\, rue Principale\, Kahler\, 8376
END:VEVENT
BEGIN:VEVENT
DTSTART;TZID=Europe/Luxembourg:20210220T190000
DTEND;TZID=Europe/Luxembourg:20210220T230000
DTSTAMP:20260420T101700
CREATED:20201023T104111Z
LAST-MODIFIED:20201023T104118Z
UID:9038-1613847600-1613862000@garnich.lu
SUMMARY:Oppene Keller
DESCRIPTION:
URL:https://garnich.lu/event/oppene-keller-5/
LOCATION:Dahlem\, am Keller\, 3\, rue de l'École\, Dahlem\, 8352\, Luxembourg
ATTACH;FMTTYPE=image/png:https://garnich.lu/wp-content/uploads/2020/10/Duelemer-Leit-asbl-Logo-e1603449510494.png
ORGANIZER;CN="Duelemer Leit asbl":MAILTO:duelemer.leit@garnich.lu
END:VEVENT
BEGIN:VEVENT
DTSTART;VALUE=DATE:20210221
DTEND;VALUE=DATE:20210222
DTSTAMP:20260420T101700
CREATED:20201223T075534Z
LAST-MODIFIED:20210202T110250Z
UID:9213-1613865600-1613951999@garnich.lu
SUMMARY:Buergbrennen
DESCRIPTION:INFO
URL:https://garnich.lu/event/buergbrennen-4/
LOCATION:Botterkräiz Garnich
ORGANIZER;CN="Opel Hecktriebler L%C3%ABtzebuerg asbl":MAILTO:arendguy@hotmail.de
END:VEVENT
BEGIN:VEVENT
DTSTART;VALUE=DATE:20210223
DTEND;VALUE=DATE:20210224
DTSTAMP:20260420T101700
CREATED:20210218T095433Z
LAST-MODIFIED:20210218T095433Z
UID:9346-1614038400-1614124799@garnich.lu
SUMMARY:ANNULÉ: Generalversammlung "D'Héiwenger asbl"
DESCRIPTION:
URL:https://garnich.lu/event/annule-generalversammlung-dheiwenger-asbl/
LOCATION:Hivange\, Al Spillschoul\, Hivange\, Luxembourg
ATTACH;FMTTYPE=image/jpeg:https://garnich.lu/wp-content/uploads/2018/12/Meeting-e1547201147191.jpg
END:VEVENT
BEGIN:VEVENT
DTSTART;VALUE=DATE:20210225
DTEND;VALUE=DATE:20210228
DTSTAMP:20260420T101700
CREATED:20210108T093629Z
LAST-MODIFIED:20210108T093633Z
UID:9266-1614211200-1614470399@garnich.lu
SUMMARY:THEATER AM DUERFZENTER ZU KOLER
DESCRIPTION:« The Coronavirus Chronicles » \nINFO
URL:https://garnich.lu/event/theater-am-duerfzenter-zu-koler-3/
LOCATION:Duerfzenter Koler\, 38\, rue Principale\, Kahler\, 8376
ATTACH;FMTTYPE=image/jpeg:https://garnich.lu/wp-content/uploads/2018/10/Theatre-e1538559855143.jpg
END:VEVENT
BEGIN:VEVENT
DTSTART;TZID=Europe/Luxembourg:20210226T190000
DTEND;TZID=Europe/Luxembourg:20210226T233000
DTSTAMP:20260420T101700
CREATED:20201117T142555Z
LAST-MODIFIED:20210108T093813Z
UID:9138-1614366000-1614382200@garnich.lu
SUMMARY:ANNULÉ: Café Koler
DESCRIPTION:
URL:https://garnich.lu/event/cafe-koler-22/
LOCATION:Duerfzenter Koler\, 38\, rue Principale\, Kahler\, 8376
ATTACH;FMTTYPE=image/jpeg:https://garnich.lu/wp-content/uploads/2019/01/Beer-e1547201059352.jpg
END:VEVENT
END:VCALENDAR