BEGIN:VCALENDAR
VERSION:2.0
PRODID:-//Gemeng Garnich - ECPv6.15.20//NONSGML v1.0//EN
CALSCALE:GREGORIAN
METHOD:PUBLISH
X-WR-CALNAME:Gemeng Garnich
X-ORIGINAL-URL:https://garnich.lu
X-WR-CALDESC:Évènements pour Gemeng Garnich
REFRESH-INTERVAL;VALUE=DURATION:PT1H
X-Robots-Tag:noindex
X-PUBLISHED-TTL:PT1H
BEGIN:VTIMEZONE
TZID:Europe/Luxembourg
BEGIN:DAYLIGHT
TZOFFSETFROM:+0100
TZOFFSETTO:+0200
TZNAME:CEST
DTSTART:20200329T010000
END:DAYLIGHT
BEGIN:STANDARD
TZOFFSETFROM:+0200
TZOFFSETTO:+0100
TZNAME:CET
DTSTART:20201025T010000
END:STANDARD
BEGIN:DAYLIGHT
TZOFFSETFROM:+0100
TZOFFSETTO:+0200
TZNAME:CEST
DTSTART:20210328T010000
END:DAYLIGHT
BEGIN:STANDARD
TZOFFSETFROM:+0200
TZOFFSETTO:+0100
TZNAME:CET
DTSTART:20211031T010000
END:STANDARD
BEGIN:DAYLIGHT
TZOFFSETFROM:+0100
TZOFFSETTO:+0200
TZNAME:CEST
DTSTART:20220327T010000
END:DAYLIGHT
BEGIN:STANDARD
TZOFFSETFROM:+0200
TZOFFSETTO:+0100
TZNAME:CET
DTSTART:20221030T010000
END:STANDARD
END:VTIMEZONE
BEGIN:VEVENT
DTSTART;VALUE=DATE:20210306
DTEND;VALUE=DATE:20210307
DTSTAMP:20260420T081548
CREATED:20201116T155547Z
LAST-MODIFIED:20210210T124845Z
UID:9106-1614988800-1615075199@garnich.lu
SUMMARY:ANNULÉ: Generalversammlung "Gaart an Heem"
DESCRIPTION:
URL:https://garnich.lu/event/generalversammlung-gaart-an-heem-2/
LOCATION:Dahlem\, am Keller\, 3\, rue de l'École\, Dahlem\, 8352\, Luxembourg
ATTACH;FMTTYPE=image/jpeg:https://garnich.lu/wp-content/uploads/2018/12/Meeting-e1547201147191.jpg
END:VEVENT
BEGIN:VEVENT
DTSTART;VALUE=DATE:20210307
DTEND;VALUE=DATE:20210308
DTSTAMP:20260420T081548
CREATED:20201023T104541Z
LAST-MODIFIED:20201023T104545Z
UID:9048-1615075200-1615161599@garnich.lu
SUMMARY:Spillnomëtten
DESCRIPTION:
URL:https://garnich.lu/event/spillnometten-2/
LOCATION:Dahlem\, am Keller\, 3\, rue de l'École\, Dahlem\, 8352\, Luxembourg
ATTACH;FMTTYPE=image/png:https://garnich.lu/wp-content/uploads/2020/10/Duelemer-Leit-asbl-Logo-e1603449510494.png
ORGANIZER;CN="Duelemer Leit asbl":MAILTO:duelemer.leit@garnich.lu
END:VEVENT
BEGIN:VEVENT
DTSTART;VALUE=DATE:20210316
DTEND;VALUE=DATE:20210317
DTSTAMP:20260420T081548
CREATED:20200925T070742Z
LAST-MODIFIED:20210225T105137Z
UID:8906-1615852800-1615939199@garnich.lu
SUMMARY:Gand ramassage de vieux vêtements
DESCRIPTION:INFO \n\n\n\n\n\n\n\nOrganisé par l’association « Aide aux enfants handicapés du Grand-Duché ». \n\n\n\n\n\n\n\n 
URL:https://garnich.lu/event/gand-ramassage-de-vieux-vetements/
LOCATION:Commune de Garnich
ORGANIZER;CN="Aide aux enfants handicap%C3%A9s du Grand-Duch%C3%A9":MAILTO:info@aehgd.lu
END:VEVENT
BEGIN:VEVENT
DTSTART;VALUE=DATE:20210320
DTEND;VALUE=DATE:20210321
DTSTAMP:20260420T081548
CREATED:20201116T160835Z
LAST-MODIFIED:20201116T160844Z
UID:9110-1616198400-1616284799@garnich.lu
SUMMARY:Grouss Botz
DESCRIPTION:
URL:https://garnich.lu/event/grouss-botz-3/
LOCATION:Hivange\, Al Spillschoul\, Hivange\, Luxembourg
END:VEVENT
BEGIN:VEVENT
DTSTART;TZID=Europe/Luxembourg:20210326T190000
DTEND;TZID=Europe/Luxembourg:20210326T233000
DTSTAMP:20260420T081548
CREATED:20201117T142645Z
LAST-MODIFIED:20210319T084632Z
UID:9140-1616785200-1616801400@garnich.lu
SUMMARY:ANNULÉ: Café Koler
DESCRIPTION:
URL:https://garnich.lu/event/cafe-koler-23/
LOCATION:Duerfzenter Koler\, 38\, rue Principale\, Kahler\, 8376
ATTACH;FMTTYPE=image/jpeg:https://garnich.lu/wp-content/uploads/2019/01/Beer-e1547201059352.jpg
END:VEVENT
BEGIN:VEVENT
DTSTART;VALUE=DATE:20210327
DTEND;VALUE=DATE:20210328
DTSTAMP:20260420T081548
CREATED:20201023T104623Z
LAST-MODIFIED:20201023T104628Z
UID:9050-1616803200-1616889599@garnich.lu
SUMMARY:Generalversammlung
DESCRIPTION:
URL:https://garnich.lu/event/generalversammlung/
LOCATION:Dahlem\, am Keller\, 3\, rue de l'École\, Dahlem\, 8352\, Luxembourg
ATTACH;FMTTYPE=image/png:https://garnich.lu/wp-content/uploads/2020/10/Duelemer-Leit-asbl-Logo-e1603449510494.png
ORGANIZER;CN="Duelemer Leit asbl":MAILTO:duelemer.leit@garnich.lu
END:VEVENT
BEGIN:VEVENT
DTSTART;VALUE=DATE:20210327
DTEND;VALUE=DATE:20210328
DTSTAMP:20260420T081548
CREATED:20210323T104549Z
LAST-MODIFIED:20210323T104549Z
UID:9433-1616803200-1616889599@garnich.lu
SUMMARY:Grouss Botz
DESCRIPTION:
URL:https://garnich.lu/event/grouss-botz-4/
LOCATION:Kahler
ATTACH;FMTTYPE=image/jpeg:https://garnich.lu/wp-content/uploads/2019/04/Dustbin-e1554292723799.jpg
END:VEVENT
END:VCALENDAR