BEGIN:VCALENDAR
VERSION:2.0
PRODID:-//Gemeng Garnich - ECPv6.15.20//NONSGML v1.0//EN
CALSCALE:GREGORIAN
METHOD:PUBLISH
X-ORIGINAL-URL:https://garnich.lu
X-WR-CALDESC:Évènements pour Gemeng Garnich
REFRESH-INTERVAL;VALUE=DURATION:PT1H
X-Robots-Tag:noindex
X-PUBLISHED-TTL:PT1H
BEGIN:VTIMEZONE
TZID:Europe/Luxembourg
BEGIN:DAYLIGHT
TZOFFSETFROM:+0100
TZOFFSETTO:+0200
TZNAME:CEST
DTSTART:20200329T010000
END:DAYLIGHT
BEGIN:STANDARD
TZOFFSETFROM:+0200
TZOFFSETTO:+0100
TZNAME:CET
DTSTART:20201025T010000
END:STANDARD
BEGIN:DAYLIGHT
TZOFFSETFROM:+0100
TZOFFSETTO:+0200
TZNAME:CEST
DTSTART:20210328T010000
END:DAYLIGHT
BEGIN:STANDARD
TZOFFSETFROM:+0200
TZOFFSETTO:+0100
TZNAME:CET
DTSTART:20211031T010000
END:STANDARD
BEGIN:DAYLIGHT
TZOFFSETFROM:+0100
TZOFFSETTO:+0200
TZNAME:CEST
DTSTART:20220327T010000
END:DAYLIGHT
BEGIN:STANDARD
TZOFFSETFROM:+0200
TZOFFSETTO:+0100
TZNAME:CET
DTSTART:20221030T010000
END:STANDARD
END:VTIMEZONE
BEGIN:VEVENT
DTSTART;VALUE=DATE:20210401
DTEND;VALUE=DATE:20210402
DTSTAMP:20260420T063413
CREATED:20201116T160956Z
LAST-MODIFIED:20210319T085352Z
UID:9112-1617235200-1617321599@garnich.lu
SUMMARY:Ouschtereeëraktioun
DESCRIPTION:INFO
URL:https://garnich.lu/event/ouschtereeeraktioun-2/
ATTACH;FMTTYPE=image/jpeg:https://garnich.lu/wp-content/uploads/2018/12/Easter-egg-e1547201139331.jpg
END:VEVENT
BEGIN:VEVENT
DTSTART;TZID=Europe/Luxembourg:20210401T150000
DTEND;TZID=Europe/Luxembourg:20210401T180000
DTSTAMP:20260420T063413
CREATED:20201023T104712Z
LAST-MODIFIED:20210319T084707Z
UID:9052-1617289200-1617300000@garnich.lu
SUMMARY:ANNULÉ: Ouschtereeër fierwen
DESCRIPTION:
URL:https://garnich.lu/event/ouschtereeer-fierwen-2/
LOCATION:Dahlem\, am Keller\, 3\, rue de l'École\, Dahlem\, 8352\, Luxembourg
ATTACH;FMTTYPE=image/png:https://garnich.lu/wp-content/uploads/2020/10/Duelemer-Leit-asbl-Logo-e1603449510494.png
ORGANIZER;CN="Duelemer Leit asbl":MAILTO:duelemer.leit@garnich.lu
END:VEVENT
BEGIN:VEVENT
DTSTART;TZID=Europe/Luxembourg:20210417T190000
DTEND;TZID=Europe/Luxembourg:20210417T230000
DTSTAMP:20260420T063413
CREATED:20201023T104157Z
LAST-MODIFIED:20210415T071916Z
UID:9040-1618686000-1618700400@garnich.lu
SUMMARY:ANNULÉ: Oppene Keller
DESCRIPTION:
URL:https://garnich.lu/event/oppene-keller-6/
LOCATION:Dahlem\, am Keller\, 3\, rue de l'École\, Dahlem\, 8352\, Luxembourg
ATTACH;FMTTYPE=image/png:https://garnich.lu/wp-content/uploads/2020/10/Duelemer-Leit-asbl-Logo-e1603449510494.png
ORGANIZER;CN="Duelemer Leit asbl":MAILTO:duelemer.leit@garnich.lu
END:VEVENT
BEGIN:VEVENT
DTSTART;VALUE=DATE:20210430
DTEND;VALUE=DATE:20210503
DTSTAMP:20260420T063413
CREATED:20201016T080936Z
LAST-MODIFIED:20210427T083609Z
UID:9014-1619740800-1619999999@garnich.lu
SUMMARY:Festival Elsy Jacobs
DESCRIPTION:BROCHURE \nFLYER \nDétails circulation \n 
URL:https://garnich.lu/event/festival-elsy-jacobs-4/
END:VEVENT
BEGIN:VEVENT
DTSTART;TZID=Europe/Luxembourg:20210430T190000
DTEND;TZID=Europe/Luxembourg:20210430T233000
DTSTAMP:20260420T063413
CREATED:20201117T142731Z
LAST-MODIFIED:20210415T071943Z
UID:9142-1619809200-1619825400@garnich.lu
SUMMARY:ANNULÉ: Café Koler
DESCRIPTION:
URL:https://garnich.lu/event/cafe-koler-24/
LOCATION:Duerfzenter Koler\, 38\, rue Principale\, Kahler\, 8376
ATTACH;FMTTYPE=image/jpeg:https://garnich.lu/wp-content/uploads/2019/01/Beer-e1547201059352.jpg
END:VEVENT
END:VCALENDAR