BEGIN:VCALENDAR
VERSION:2.0
PRODID:-//Gemeng Garnich - ECPv6.15.20//NONSGML v1.0//EN
CALSCALE:GREGORIAN
METHOD:PUBLISH
X-WR-CALNAME:Gemeng Garnich
X-ORIGINAL-URL:https://garnich.lu
X-WR-CALDESC:Évènements pour Gemeng Garnich
REFRESH-INTERVAL;VALUE=DURATION:PT1H
X-Robots-Tag:noindex
X-PUBLISHED-TTL:PT1H
BEGIN:VTIMEZONE
TZID:Europe/Luxembourg
BEGIN:DAYLIGHT
TZOFFSETFROM:+0100
TZOFFSETTO:+0200
TZNAME:CEST
DTSTART:20200329T010000
END:DAYLIGHT
BEGIN:STANDARD
TZOFFSETFROM:+0200
TZOFFSETTO:+0100
TZNAME:CET
DTSTART:20201025T010000
END:STANDARD
BEGIN:DAYLIGHT
TZOFFSETFROM:+0100
TZOFFSETTO:+0200
TZNAME:CEST
DTSTART:20210328T010000
END:DAYLIGHT
BEGIN:STANDARD
TZOFFSETFROM:+0200
TZOFFSETTO:+0100
TZNAME:CET
DTSTART:20211031T010000
END:STANDARD
BEGIN:DAYLIGHT
TZOFFSETFROM:+0100
TZOFFSETTO:+0200
TZNAME:CEST
DTSTART:20220327T010000
END:DAYLIGHT
BEGIN:STANDARD
TZOFFSETFROM:+0200
TZOFFSETTO:+0100
TZNAME:CET
DTSTART:20221030T010000
END:STANDARD
END:VTIMEZONE
BEGIN:VEVENT
DTSTART;VALUE=DATE:20210612
DTEND;VALUE=DATE:20210613
DTSTAMP:20260420T024748
CREATED:20201116T161502Z
LAST-MODIFIED:20210521T065416Z
UID:9118-1623456000-1623542399@garnich.lu
SUMMARY:ANNULÉ: Mammendaagsfeier
DESCRIPTION:
URL:https://garnich.lu/event/mammendaagsfeier-2/
LOCATION:Dahlem\, am Keller\, 3\, rue de l'École\, Dahlem\, 8352\, Luxembourg
ATTACH;FMTTYPE=image/jpeg:https://garnich.lu/wp-content/uploads/2018/10/Drinks-e1538550570322.jpg
END:VEVENT
BEGIN:VEVENT
DTSTART;TZID=Europe/Luxembourg:20210619T190000
DTEND;TZID=Europe/Luxembourg:20210619T230000
DTSTAMP:20260420T024748
CREATED:20201023T104326Z
LAST-MODIFIED:20201023T104332Z
UID:9044-1624129200-1624143600@garnich.lu
SUMMARY:Oppene Keller
DESCRIPTION:
URL:https://garnich.lu/event/oppene-keller-8/
LOCATION:Dahlem\, am Keller\, 3\, rue de l'École\, Dahlem\, 8352\, Luxembourg
ATTACH;FMTTYPE=image/png:https://garnich.lu/wp-content/uploads/2020/10/Duelemer-Leit-asbl-Logo-e1603449510494.png
ORGANIZER;CN="Duelemer Leit asbl":MAILTO:duelemer.leit@garnich.lu
END:VEVENT
BEGIN:VEVENT
DTSTART;VALUE=DATE:20210623
DTEND;VALUE=DATE:20210624
DTSTAMP:20260420T024748
CREATED:20210607T111708Z
LAST-MODIFIED:20210607T111853Z
UID:9594-1624406400-1624492799@garnich.lu
SUMMARY:Festivités pour la fête nationale
DESCRIPTION:INFO
URL:https://garnich.lu/event/festivites-pour-la-fete-nationale/
ATTACH;FMTTYPE=image/jpeg:https://garnich.lu/wp-content/uploads/2018/10/2016_10_09-Journée-commémorative-12-e1538475964408.jpg
ORGANIZER;CN="Administration communale Garnich":MAILTO:garnich@pt.lu
END:VEVENT
BEGIN:VEVENT
DTSTART;TZID=Europe/Luxembourg:20210625T190000
DTEND;TZID=Europe/Luxembourg:20210625T233000
DTSTAMP:20260420T024748
CREATED:20201117T142911Z
LAST-MODIFIED:20201117T142917Z
UID:9146-1624647600-1624663800@garnich.lu
SUMMARY:Café Koler
DESCRIPTION:
URL:https://garnich.lu/event/cafe-koler-26/
LOCATION:Duerfzenter Koler\, 38\, rue Principale\, Kahler\, 8376
ATTACH;FMTTYPE=image/jpeg:https://garnich.lu/wp-content/uploads/2019/01/Beer-e1547201059352.jpg
END:VEVENT
END:VCALENDAR